BEGIN:VCALENDAR
VERSION:2.0
PRODID:-//sonderborg.dk - ECPv6.15.17.1//NONSGML v1.0//EN
CALSCALE:GREGORIAN
METHOD:PUBLISH
X-WR-CALNAME:sonderborg.dk
X-ORIGINAL-URL:https://sonderborg.dk
X-WR-CALDESC:Begivenheder for sonderborg.dk
REFRESH-INTERVAL;VALUE=DURATION:PT1H
X-Robots-Tag:noindex
X-PUBLISHED-TTL:PT1H
BEGIN:VTIMEZONE
TZID:Europe/Copenhagen
BEGIN:DAYLIGHT
TZOFFSETFROM:+0100
TZOFFSETTO:+0200
TZNAME:CEST
DTSTART:20250330T010000
END:DAYLIGHT
BEGIN:STANDARD
TZOFFSETFROM:+0200
TZOFFSETTO:+0100
TZNAME:CET
DTSTART:20251026T010000
END:STANDARD
BEGIN:DAYLIGHT
TZOFFSETFROM:+0100
TZOFFSETTO:+0200
TZNAME:CEST
DTSTART:20260329T010000
END:DAYLIGHT
BEGIN:STANDARD
TZOFFSETFROM:+0200
TZOFFSETTO:+0100
TZNAME:CET
DTSTART:20261025T010000
END:STANDARD
BEGIN:DAYLIGHT
TZOFFSETFROM:+0100
TZOFFSETTO:+0200
TZNAME:CEST
DTSTART:20270328T010000
END:DAYLIGHT
BEGIN:STANDARD
TZOFFSETFROM:+0200
TZOFFSETTO:+0100
TZNAME:CET
DTSTART:20271031T010000
END:STANDARD
END:VTIMEZONE
BEGIN:VEVENT
DTSTART;TZID=Europe/Copenhagen:20260411T203000
DTEND;TZID=Europe/Copenhagen:20260411T203000
DTSTAMP:20260423T135618
CREATED:20250904T164635Z
LAST-MODIFIED:20250904T164635Z
UID:10013647-1775939400-1775939400@sonderborg.dk
SUMMARY:Mark le Fevre (ekstra)
DESCRIPTION:Mark le Fevre kommer inden om Sønderborg Teater med sin nye turne\, Det Fejler Ik’ En Skid.\nMark le Fevre er klar i spyttet\, når han giver denne besked om sin kommende turne: \n“Det her show er mit hjertebarn og noget\, jeg glæder mig uhyggeligt meget til at lave. \nShowet tager udgangspunkt i hverdagens små og store bump. Siden sidst er jeg blevet far efter en del bøvl\, fået tilbudt en yderst flot titel\, fået en knæskade og har tabt en retssag. Min kæreste\, der er uddannet jurist\, mener\, at jeg skal lade det ligge. \nMen mærk jer mine ord: Jeg skal nok få min hævn. \nFolk virkede meget glade\, da jeg var rundt med mit forrige show\, ’Heldig’. Den slags skaber jo et vist pres. \nMen flere af mine nordjyske familiemedlemmer har set mig optræde med jokes fra showet\, og der var bred enighed om\, at det ikke fejlede en skid. Så meget tyder på\, at dette bliver mit bedste show til dato. \nJeg glæder mig til at vise jer det og håber\, at I også går fra showet og tænker: “Marks nye show fejler ik’ en skid.”
URL:https://sonderborg.dk/event/mark-le-fevre-ekstra/
LOCATION:Sønderborg Teater\, Strandvej 1\, Sønderborg\, 6400\, Danmark
CATEGORIES:Comedy
ATTACH;FMTTYPE=image/jpeg:https://sonderborg.dk/wp-content/uploads/2024/10/MLF_Tour25_2000x1667.jpg
END:VEVENT
BEGIN:VEVENT
DTSTART;TZID=Europe/Copenhagen:20260311T193000
DTEND;TZID=Europe/Copenhagen:20260311T213000
DTSTAMP:20260423T135618
CREATED:20250512T085133Z
LAST-MODIFIED:20250824T062353Z
UID:10012010-1773257400-1773264600@sonderborg.dk
SUMMARY:Far flytter ind
DESCRIPTION:KOMEDIE – Når livets tilfældigheder tvinger 2 generationer ind under samme tag. Det er aldrig nemt for voksne børn at flytte hjem til deres forældre\, men er det lettere\, hvis det er omvendt? Debuttekstforfatteren er komikeren  Sebastian Dorset og skuespillerne er Ole Sørensen\, Susanne Breuning\, Iben Dorner og Kristian Holm Joensen
URL:https://sonderborg.dk/event/far-flytter-ind/
LOCATION:Sønderborg Teater\, Strandvej 1\, Sønderborg\, 6400\, Danmark
CATEGORIES:Teater, revy og film
ATTACH;FMTTYPE=image/jpeg:https://sonderborg.dk/wp-content/uploads/2025/05/Billede.jpeg
END:VEVENT
BEGIN:VEVENT
DTSTART;TZID=Europe/Copenhagen:20260207T193000
DTEND;TZID=Europe/Copenhagen:20260207T213000
DTSTAMP:20260423T135618
CREATED:20250512T085143Z
LAST-MODIFIED:20250824T062748Z
UID:10012007-1770492600-1770499800@sonderborg.dk
SUMMARY:SOLITUDEVEJ
DESCRIPTION:OPERETTEKOMPAGNIET – besøger os gerne her i Sønderborg\, og denne gang medbringer de en sand perlerække af film- og revysange fra dengang mor var barn
URL:https://sonderborg.dk/event/solitudevej/
LOCATION:Sønderborg Teater\, Strandvej 1\, Sønderborg\, 6400\, Danmark
CATEGORIES:Koncert, musik og fællessang
ATTACH;FMTTYPE=image/jpeg:https://sonderborg.dk/wp-content/uploads/2025/05/IMG_2415.jpeg
END:VEVENT
BEGIN:VEVENT
DTSTART;TZID=Europe/Copenhagen:20260129T193000
DTEND;TZID=Europe/Copenhagen:20260129T213000
DTSTAMP:20260423T135618
CREATED:20250512T085253Z
LAST-MODIFIED:20250824T062235Z
UID:10012005-1769715000-1769722200@sonderborg.dk
SUMMARY:BRUNOS BODEGA
DESCRIPTION:KOMEDIE – Kom indenfor og mød SønderJytte\, Klåge. Allan Pisbows og de andre\, der er lige så faste som  resten af inventaret i Brunos Bodega. Producent Limfjordsteatret.\,
URL:https://sonderborg.dk/event/brunos-bodega-2/
LOCATION:Sønderborg Teater\, Strandvej 1\, Sønderborg\, 6400\, Danmark
CATEGORIES:Teater, revy og film
ATTACH;FMTTYPE=image/jpeg:https://sonderborg.dk/wp-content/uploads/2025/05/IMG_2414.jpeg
END:VEVENT
END:VCALENDAR