BEGIN:VCALENDAR
VERSION:2.0
PRODID:-//sonderborg.dk - ECPv6.15.17.1//NONSGML v1.0//EN
CALSCALE:GREGORIAN
METHOD:PUBLISH
X-WR-CALNAME:sonderborg.dk
X-ORIGINAL-URL:https://sonderborg.dk
X-WR-CALDESC:Begivenheder for sonderborg.dk
REFRESH-INTERVAL;VALUE=DURATION:PT1H
X-Robots-Tag:noindex
X-PUBLISHED-TTL:PT1H
BEGIN:VTIMEZONE
TZID:Europe/Copenhagen
BEGIN:DAYLIGHT
TZOFFSETFROM:+0100
TZOFFSETTO:+0200
TZNAME:CEST
DTSTART:20250330T010000
END:DAYLIGHT
BEGIN:STANDARD
TZOFFSETFROM:+0200
TZOFFSETTO:+0100
TZNAME:CET
DTSTART:20251026T010000
END:STANDARD
BEGIN:DAYLIGHT
TZOFFSETFROM:+0100
TZOFFSETTO:+0200
TZNAME:CEST
DTSTART:20260329T010000
END:DAYLIGHT
BEGIN:STANDARD
TZOFFSETFROM:+0200
TZOFFSETTO:+0100
TZNAME:CET
DTSTART:20261025T010000
END:STANDARD
BEGIN:DAYLIGHT
TZOFFSETFROM:+0100
TZOFFSETTO:+0200
TZNAME:CEST
DTSTART:20270328T010000
END:DAYLIGHT
BEGIN:STANDARD
TZOFFSETFROM:+0200
TZOFFSETTO:+0100
TZNAME:CET
DTSTART:20271031T010000
END:STANDARD
END:VTIMEZONE
BEGIN:VEVENT
DTSTART;VALUE=DATE:20260607
DTEND;VALUE=DATE:20260608
DTSTAMP:20260423T205134
CREATED:20260423T060840Z
LAST-MODIFIED:20260423T060840Z
UID:1244094-1780790400-1780876799@sonderborg.dk
SUMMARY:Svenstrup – en landsby med liv i 2026
DESCRIPTION:Der er ‘Svenstrup – en landsby med liv i’  igen i år 2026. \nArrangementet sker samtidigt med Ringriderfesten og ved Ringriderpladsen. Sportspladsen på den modsatte side af Nordborgvej tages også i anvendelse for de deltagende foreninger. \nStande på sportspladsen nær ved Forsamlingshuset: \n\nForsamlingshuset og Forsamlingshusets støtteforening\nStenklubben Als\nE Svenstruplaug\nSUF\nSvenstrup Friskole\n\nStande i Ringriderforeningens telt: \n\nForeningen Nygård\nSUF/Ringriderforeningen – salg af kaffe\, kage og øl i teltet\n\nÅbent hus i deres egne bygninger / lokationer: \n\nJørgen Riecks Arkæologiske Samling . Ordinær åbningstid klokken 13.00 til 16.00. Egebjergvej 4.\nSvenstrup Skytteforening har åbent hus på Sandbjergvej 1 fra 12.00-15.00\nNordals Folkedansere har måske åbent hus på Alsingergården.\n\nStande på selve Ringriderpladsen \n\nRingriderforeningen – selvfølgelig\nSvenstrup Frivillige Brandværn\nSvenstrup Cykelklub – Salg af Ringriderpølser\n\nDer er mulighed for mad og drikkevarer på Ringriderpladsen. \nForbehold for ændringer. Følg med på hjemmesiden.
URL:https://sonderborg.dk/event/svenstrup-en-landsby-med-liv-i-2026/
LOCATION:Svenstrup Forsamlingshus\, Svenstrup Forsamlingshus\, Nordborgvej 66\, Svenstrup\, Danmark
ATTACH;FMTTYPE=image/png:https://sonderborg.dk/wp-content/uploads/2026/04/Liv_i_landsbyen_skilt.png
END:VEVENT
END:VCALENDAR