BEGIN:VCALENDAR
VERSION:2.0
PRODID:-//sonderborg.dk - ECPv6.15.17.1//NONSGML v1.0//EN
CALSCALE:GREGORIAN
METHOD:PUBLISH
X-WR-CALNAME:sonderborg.dk
X-ORIGINAL-URL:https://sonderborg.dk
X-WR-CALDESC:Begivenheder for sonderborg.dk
REFRESH-INTERVAL;VALUE=DURATION:PT1H
X-Robots-Tag:noindex
X-PUBLISHED-TTL:PT1H
BEGIN:VTIMEZONE
TZID:Europe/Copenhagen
BEGIN:DAYLIGHT
TZOFFSETFROM:+0100
TZOFFSETTO:+0200
TZNAME:CEST
DTSTART:20250330T010000
END:DAYLIGHT
BEGIN:STANDARD
TZOFFSETFROM:+0200
TZOFFSETTO:+0100
TZNAME:CET
DTSTART:20251026T010000
END:STANDARD
BEGIN:DAYLIGHT
TZOFFSETFROM:+0100
TZOFFSETTO:+0200
TZNAME:CEST
DTSTART:20260329T010000
END:DAYLIGHT
BEGIN:STANDARD
TZOFFSETFROM:+0200
TZOFFSETTO:+0100
TZNAME:CET
DTSTART:20261025T010000
END:STANDARD
BEGIN:DAYLIGHT
TZOFFSETFROM:+0100
TZOFFSETTO:+0200
TZNAME:CEST
DTSTART:20270328T010000
END:DAYLIGHT
BEGIN:STANDARD
TZOFFSETFROM:+0200
TZOFFSETTO:+0100
TZNAME:CET
DTSTART:20271031T010000
END:STANDARD
END:VTIMEZONE
BEGIN:VEVENT
DTSTART;TZID=Europe/Copenhagen:20261003T093000
DTEND;TZID=Europe/Copenhagen:20261004T143000
DTSTAMP:20260423T101250
CREATED:20260420T060658Z
LAST-MODIFIED:20260420T133206Z
UID:1243404-1791019800-1791124200@sonderborg.dk
SUMMARY:Oplevelsestur til Sønderborg for uddannelseslæger
DESCRIPTION:Kom til Sønderborg og få recepten på det gode liv!\nEn weekend fyldt med oplevelser\, faglig viden og gode samtaler – for uddannelseslæger\, som overvejer almen praksis samt deres partnere.\nDrømmer du om stærk faglighed\, en lægepraksis med gode fysiske rammer\, kort vej til naturen\, bolig man kan betale – og et sted\, hvor familieliv og karriere hænger sammen? Så tag med på vores oplevelsestur til Sønderborg i det sønderjyske den 3. til 4. oktober 2026. \nOver to dage mærker du stemningen i byen\, møder læger og lokale\, får konkret viden om boligmarkedet\, jobmuligheder for medfølgende partnere og hverdagsliv for familier – og du går herfra med overblik\, netværk og ro i maven. \nArrangementet er gratis\, og overnatning\, forplejning og transport under oplevelsesturen er inkluderet. \nDet får du ud af weekenden: \n\nFagligt indblik: Mød tre kommende praktiserende læger\, som sammen vil drive praksis i det nye Sundhedshus i Augustenborg. De vil fortælle om deres overvejelser\, oplevelser og forventninger.\nBoligoverblik: Få et hurtigt overblik over kvarterer\, priser og boligtyper – fra bynær lejlighed til hus med have.\nPartnerjob i fokus: Din partner får direkte adgang til netværk\, tips til jobsøgning og kontakt til relevante virksomheder/aktører.\nBørnefamilieliv: Se bibliotek\, kulturhus og grønne lommer og få facts om dagtilbud\, skoler\, fritidsliv og foreningskultur.\nByliv & fællesskab: Få et glimt af havnefronten\, Sønderborg Slot\, Multikulturhuset og hyggelige mødesteder – med plads til både nærvær\, hyggelig snak og netværk.\n\n  \nProgram i korte træk – med forbehold for ændringer:  \nLørdag den 3. oktober 2026\nVelkomst ved Hotel Alsik og byens bedste udsigt fra “Point of View”\, by- og havnerundtur\, fælles middag\, indblik i byens boligmarked\, kulturliv samt uformel hygge senere på aftenen. \nSøndag den 4. oktober 2026\nRolig start med morgen-spa og morgenmad\, udflugt til Augustenborg med besøg af nyt Sundhedshus\, faglige oplæg og fælles frokost. \nProgrammet opdateres løbende her på siden og det endelige program udsendes til tilmeldte deltagere forud for weekenden. \nHvem kan deltage?\nKBU-\, intro- og HU-læger – og meget gerne med partner/ægtefælle. \nSådan tilmelder du dig:\nUdfyld formularen nederst her på siden. Du får en bekræftelse tilsendt pr. mail efter tilmeldingen. Tilmeldingsfristen er den 31. juli 2026 kl. 12.00. \nDer er et begrænset antal pladser\, som fordeles efter først-til-mølle-princippet. Skulle du efter tilmelding blive forhindret i at deltage\, vil vi sætte stor pris på\, hvis du giver os besked i god tid.\n\n\n  \nPraktisk info og FAQs \n\n					Hvor overnatter de tilmeldte deltagere?\n					Alle tilmeldte deltagere vil overnatte i et enkelt- eller dobbeltværelse på Hotel Alsik i Sønderborg. Overnatningen er inkluderet.\n				\n\n					Hvordan kommer jeg til Sønderborg?\n					Du kan komme i bil\, med tog eller flyve fra København Lufthavn direkte til Sønderborg. Tjek www.rejseplanen.dk eller kig efter flyafgangene under www.alsieexpress.dk.\n				\n\n					Hvor kan jeg parkere?\n					Du kan parkere for 140\,- kr./døgn i Havnens P-hus\, som ligger lige overfor Hotel Alsik. Under Kong Christians X. Bro kan du parkere gratis.\n				\n\n					Er oplevelsesturen gratis?\n					Ja\, som udgangspunkt er oplevelsesturen gratis. Du skal dog selv sørge for at komme til Sønderborg samt evt. betale for parkeringen.\n				\n\n					Hvad skal jeg medbringe?\n					Medbring behagelige sko og tøj til udendørsaktiviteter samt badetøj\, hvis du vil i spa søndag morgen.\n				\n\n					Der er ingen ledige pladser. Vil I oprette en venteliste?\n					Når arrangementet er fuldt booket\, opretter vi en venteliste\, som både du og din evt. partner kan blive skrevet på.\n				\n  \nOplevelsesturen til Sønderborg Kommune tilbydes i et samarbejde mellem Region Syddanmark\, PLO Syddanmark samt de fire sønderjyske kommuner. \n                 \n  \nKontakt ved spørgsmål \n\nTatjana Rode \nBosætningskoordinator \ntilflytter@sonderborg.dk\nwww.sonderborg.dk/tilflytter
URL:https://sonderborg.dk/event/oplevelsestur/
LOCATION:hotel alsik\, Nørre Havnegade 21-25\, Sønderborg\, 6400
CATEGORIES:Tilflytter
ATTACH;FMTTYPE=image/jpeg:https://sonderborg.dk/wp-content/uploads/2026/04/Forsiden-scaled.jpg
END:VEVENT
END:VCALENDAR