BEGIN:VCALENDAR
VERSION:2.0
PRODID:-//sonderborg.dk - ECPv6.15.17.1//NONSGML v1.0//EN
CALSCALE:GREGORIAN
METHOD:PUBLISH
X-WR-CALNAME:sonderborg.dk
X-ORIGINAL-URL:https://sonderborg.dk
X-WR-CALDESC:Begivenheder for sonderborg.dk
REFRESH-INTERVAL;VALUE=DURATION:PT1H
X-Robots-Tag:noindex
X-PUBLISHED-TTL:PT1H
BEGIN:VTIMEZONE
TZID:Europe/Copenhagen
BEGIN:DAYLIGHT
TZOFFSETFROM:+0100
TZOFFSETTO:+0200
TZNAME:CEST
DTSTART:20250330T010000
END:DAYLIGHT
BEGIN:STANDARD
TZOFFSETFROM:+0200
TZOFFSETTO:+0100
TZNAME:CET
DTSTART:20251026T010000
END:STANDARD
BEGIN:DAYLIGHT
TZOFFSETFROM:+0100
TZOFFSETTO:+0200
TZNAME:CEST
DTSTART:20260329T010000
END:DAYLIGHT
BEGIN:STANDARD
TZOFFSETFROM:+0200
TZOFFSETTO:+0100
TZNAME:CET
DTSTART:20261025T010000
END:STANDARD
BEGIN:DAYLIGHT
TZOFFSETFROM:+0100
TZOFFSETTO:+0200
TZNAME:CEST
DTSTART:20270328T010000
END:DAYLIGHT
BEGIN:STANDARD
TZOFFSETFROM:+0200
TZOFFSETTO:+0100
TZNAME:CET
DTSTART:20271031T010000
END:STANDARD
END:VTIMEZONE
BEGIN:VEVENT
DTSTART;TZID=Europe/Copenhagen:20260518T180000
DTEND;TZID=Europe/Copenhagen:20260518T210000
DTSTAMP:20260420T180937
CREATED:20260420T060713Z
LAST-MODIFIED:20260420T060713Z
UID:1243587-1779127200-1779138000@sonderborg.dk
SUMMARY:Ladywalk
DESCRIPTION:Ladywalk foregår mandag den 18. maj 2026 i 16 forskellige byer rundt om i landet. På alle startsteder kan du vælge at gå enten 3 km\, 7 km eller 12 kilometer. Fællesstart kl. 18:00. \nLadywalk har et ønske om at få kvinder i alle aldre og størrelser ud at gå. Samtidig med at man gør noget godt for sig selv\, er man med til at gøre en forskel for andre kvinder\, som har udfordringer med helbredet.
URL:https://sonderborg.dk/event/ladywalk/
LOCATION:SFS Hallen\, Borgmester Andersens Vej 100\, Sønderborg\, 6400\, Danmark
CATEGORIES:Byvandring
ATTACH;FMTTYPE=image/jpeg:https://sonderborg.dk/wp-content/uploads/2026/04/IMG_1106.jpeg
END:VEVENT
END:VCALENDAR