BEGIN:VCALENDAR
VERSION:2.0
PRODID:-//sonderborg.dk - ECPv6.15.17.1//NONSGML v1.0//EN
CALSCALE:GREGORIAN
METHOD:PUBLISH
X-WR-CALNAME:sonderborg.dk
X-ORIGINAL-URL:https://sonderborg.dk
X-WR-CALDESC:Begivenheder for sonderborg.dk
REFRESH-INTERVAL;VALUE=DURATION:PT1H
X-Robots-Tag:noindex
X-PUBLISHED-TTL:PT1H
BEGIN:VTIMEZONE
TZID:Europe/Copenhagen
BEGIN:DAYLIGHT
TZOFFSETFROM:+0100
TZOFFSETTO:+0200
TZNAME:CEST
DTSTART:20250330T010000
END:DAYLIGHT
BEGIN:STANDARD
TZOFFSETFROM:+0200
TZOFFSETTO:+0100
TZNAME:CET
DTSTART:20251026T010000
END:STANDARD
BEGIN:DAYLIGHT
TZOFFSETFROM:+0100
TZOFFSETTO:+0200
TZNAME:CEST
DTSTART:20260329T010000
END:DAYLIGHT
BEGIN:STANDARD
TZOFFSETFROM:+0200
TZOFFSETTO:+0100
TZNAME:CET
DTSTART:20261025T010000
END:STANDARD
BEGIN:DAYLIGHT
TZOFFSETFROM:+0100
TZOFFSETTO:+0200
TZNAME:CEST
DTSTART:20270328T010000
END:DAYLIGHT
BEGIN:STANDARD
TZOFFSETFROM:+0200
TZOFFSETTO:+0100
TZNAME:CET
DTSTART:20271031T010000
END:STANDARD
END:VTIMEZONE
BEGIN:VEVENT
DTSTART;TZID=Europe/Copenhagen:20260523T100000
DTEND;TZID=Europe/Copenhagen:20260523T170000
DTSTAMP:20260423T170715
CREATED:20260421T122632Z
LAST-MODIFIED:20260421T122632Z
UID:1243934-1779530400-1779555600@sonderborg.dk
SUMMARY:Kæmpe bamsefestival
DESCRIPTION:Så skal du med til bamsefestival i Universe – en hel dag dedikeret til alle jer\, der elsker bamser. \nDet bliver en helt særlig krammedag fyldt med sjov\, grin og masser af gode oplevelser for både store og små. Rundt i parken vil du kunne møde velkendte maskotter\, som glæder sig til at dele kram ud og high fives ud hele dagen. \nMød Børste – det søde\, nysgerrige og til tider lidt stædige pindsvin\, som du kender fra DR Minisjang. Glæd jer til showet “Børste og Sangkassen” på science scenen\, efterfulgt af meet & greet hvor I kan møde det søde pindsvin helt tæt på. \nDu kan også møde de ikoniske Mario Brothers\, som står klar til at hilse på fans og tage billeder. \nDagen byder selvfølgelig også på en festlig maskotparade\, hvor farverige figurer bevæger sig gennem parken og skaber en magisk stemning. \nOg hvad er en bamsefestival uden lækkerier? Vores food-afdeling disker op med de helt særlige “bamseboller” – lækre donuts skåret over og fyldt med is og krymmel. Perfekt til en sød pause midt i alle oplevelserne! \nVi ses til en dag fyldt med kram\, leg og uforglemmelige øjeblikke i Universe.
URL:https://sonderborg.dk/event/kaempe-bamsefestival/
LOCATION:Universe\, Mads Patent Vej 1\, Nordborg\, 6430
ATTACH;FMTTYPE=image/png:https://sonderborg.dk/wp-content/uploads/2026/04/boerste-og-sangkassen_horisontal-scaled.png
END:VEVENT
END:VCALENDAR