BEGIN:VCALENDAR
VERSION:2.0
PRODID:-//sonderborg.dk - ECPv6.15.17.1//NONSGML v1.0//EN
CALSCALE:GREGORIAN
METHOD:PUBLISH
X-WR-CALNAME:sonderborg.dk
X-ORIGINAL-URL:https://sonderborg.dk
X-WR-CALDESC:Begivenheder for sonderborg.dk
REFRESH-INTERVAL;VALUE=DURATION:PT1H
X-Robots-Tag:noindex
X-PUBLISHED-TTL:PT1H
BEGIN:VTIMEZONE
TZID:Europe/Copenhagen
BEGIN:DAYLIGHT
TZOFFSETFROM:+0100
TZOFFSETTO:+0200
TZNAME:CEST
DTSTART:20250330T010000
END:DAYLIGHT
BEGIN:STANDARD
TZOFFSETFROM:+0200
TZOFFSETTO:+0100
TZNAME:CET
DTSTART:20251026T010000
END:STANDARD
BEGIN:DAYLIGHT
TZOFFSETFROM:+0100
TZOFFSETTO:+0200
TZNAME:CEST
DTSTART:20260329T010000
END:DAYLIGHT
BEGIN:STANDARD
TZOFFSETFROM:+0200
TZOFFSETTO:+0100
TZNAME:CET
DTSTART:20261025T010000
END:STANDARD
BEGIN:DAYLIGHT
TZOFFSETFROM:+0100
TZOFFSETTO:+0200
TZNAME:CEST
DTSTART:20270328T010000
END:DAYLIGHT
BEGIN:STANDARD
TZOFFSETFROM:+0200
TZOFFSETTO:+0100
TZNAME:CET
DTSTART:20271031T010000
END:STANDARD
END:VTIMEZONE
BEGIN:VEVENT
DTSTART;TZID=Europe/Copenhagen:20260506T143000
DTEND;TZID=Europe/Copenhagen:20260506T170000
DTSTAMP:20260420T162611
CREATED:20260420T060658Z
LAST-MODIFIED:20260420T060658Z
UID:1243526-1778077800-1778086800@sonderborg.dk
SUMMARY:Hvem Ka’\, Canva!
DESCRIPTION:Hvem Ka’\, Canva!\nDet første indtryk skabes\, før du siger et ord.\nDet første afgørende indtryk skabes visuelt med farver\, typografi og det æstetiske udtryk\, din virksomhed bærer med sig på tværs af alt fra SoMe til præsentationer. En professionel og sammenhængende visuel kommunikation er en af de mest effektive måder at styrke dit brand på – uanset om du er ny soloselvstændig\, garvet iværksætter eller har ansvaret for kommunikationen i en mellemstor virksomhed. \nCanva er et af de mest intuitive og nemt tilgængelige designværktøjer\, der findes lige nu. Men mange udnytter blot en brøkdel af dets potentiale. Det ændrer vi på i fællesskab. På denne gratis introduktionsworkshop\, første del af et længere forløb\, får du: \n\nIndblik i\, hvorfor stærke designs og en visuel rød tråd er afgørende for\, hvordan din virksomhed opfattes af dine målgrupper\nOverblik over Canvas mange muligheder – langt ud over gængse SoMe-opslag\nHands-on øvelser\, så du arbejder i værktøjet allerede under workshoppen\nKonkrete greb til præsentationer\, infografikker\, nyhedsbreve\, bannere og meget mere\n\nIntroen er for dig\, der er ny i Canva eller dig\, der allerede bruger det\, men som ønsker at komme dybere ned i værktøjets lag og arbejde mere bevidst og effektivt med dit visuelle udtryk. Du behøver kun en gratis Canva-profil på medbragt computer for at deltage. \n\nDin underviser\nCamilla Uldal er strategisk kommunikationsekspert og stiftende partner i ULDAL & CO. Hun arbejder i skæringspunktet mellem strategi\, æstetik og fortælling og har en sjælden evne til at gøre det komplekse enkelt\, det kedelige smukt og det visuelle strategisk. Som underviser er hun kendt for at være engageret\, praksisnær og medrivende. \n\nPraktisk info\nTidspunkt: Onsdag d. 6. maj 2026 kl. 14:30 – 17:00 \nSted: Sønderborg Vækstråd\, Domicilet\, Ellegårdvej 36\, 6400 Sønderborg. Fri parkering. Indgang og parkering via Damgade. \nPris: Gratis. \nTilmelding: Tilmelding er nødvendig – senest  d. 29. april 2026 kl. 12:00
URL:https://sonderborg.dk/event/hvem-ka-canva/
LOCATION:Sønderborg Vækstråd\, Ellegårdvej 36\, Sønderborg\, 6400
CATEGORIES:Erhverv,Job og uddannelse,UDDANNELSE
ATTACH;FMTTYPE=image/png:https://sonderborg.dk/wp-content/uploads/2026/04/Canva-kursus-1920x1080px-2.png
END:VEVENT
END:VCALENDAR