BEGIN:VCALENDAR
VERSION:2.0
PRODID:-//sonderborg.dk - ECPv6.15.17.1//NONSGML v1.0//EN
CALSCALE:GREGORIAN
METHOD:PUBLISH
X-WR-CALNAME:sonderborg.dk
X-ORIGINAL-URL:https://sonderborg.dk
X-WR-CALDESC:Begivenheder for sonderborg.dk
REFRESH-INTERVAL;VALUE=DURATION:PT1H
X-Robots-Tag:noindex
X-PUBLISHED-TTL:PT1H
BEGIN:VTIMEZONE
TZID:Europe/Copenhagen
BEGIN:DAYLIGHT
TZOFFSETFROM:+0100
TZOFFSETTO:+0200
TZNAME:CEST
DTSTART:20250330T010000
END:DAYLIGHT
BEGIN:STANDARD
TZOFFSETFROM:+0200
TZOFFSETTO:+0100
TZNAME:CET
DTSTART:20251026T010000
END:STANDARD
BEGIN:DAYLIGHT
TZOFFSETFROM:+0100
TZOFFSETTO:+0200
TZNAME:CEST
DTSTART:20260329T010000
END:DAYLIGHT
BEGIN:STANDARD
TZOFFSETFROM:+0200
TZOFFSETTO:+0100
TZNAME:CET
DTSTART:20261025T010000
END:STANDARD
BEGIN:DAYLIGHT
TZOFFSETFROM:+0100
TZOFFSETTO:+0200
TZNAME:CEST
DTSTART:20270328T010000
END:DAYLIGHT
BEGIN:STANDARD
TZOFFSETFROM:+0200
TZOFFSETTO:+0100
TZNAME:CET
DTSTART:20271031T010000
END:STANDARD
END:VTIMEZONE
BEGIN:VEVENT
DTSTART;TZID=Europe/Copenhagen:20261007T180000
DTEND;TZID=Europe/Copenhagen:20261007T200000
DTSTAMP:20260421T181143
CREATED:20260421T122631Z
LAST-MODIFIED:20260421T122631Z
UID:1243959-1791396000-1791403200@sonderborg.dk
SUMMARY:Halloween After Dark (VIP)
DESCRIPTION:En nervepirrende aften for de modige! \n\nVIP event fyldt med gys\, overraskelser og uhyggelig stemning. \n\nHalloween After Dark er et helt særligt VIP aftenarrangement fyldt med halloweenoplevelser\, du sent vil glemme. Gå på opdagelse i parken\, oplyst af kulørte lamper\, og få en unik mulighed for at prøve udvalgte attraktioner i mørket. \n\nFor familiens modigste har vi tilrettelagt særlige skræmmeruter\, der med garanti får hårene til at rejse sig. Her har vi skruet op for uhyggen – pas på\, du ved aldrig\, hvad der lurer i skyggerne… \n\nEventet er for både små og store spøgelser. Hvis man ikke har mod på skræmmeruterne\, kan man nemt gå udenom. De første 400 børn får desuden en gratis trick-or-treat goodiebox!
URL:https://sonderborg.dk/event/halloween-after-dark-vip/
LOCATION:Universe\, Mads Patent Vej 1\, Nordborg\, 6430
CATEGORIES:Kultur og fritid
ATTACH;FMTTYPE=image/jpeg:https://sonderborg.dk/wp-content/uploads/2026/04/had_web.jpg
END:VEVENT
END:VCALENDAR