BEGIN:VCALENDAR
VERSION:2.0
PRODID:-//sonderborg.dk - ECPv6.15.17.1//NONSGML v1.0//EN
CALSCALE:GREGORIAN
METHOD:PUBLISH
X-WR-CALNAME:sonderborg.dk
X-ORIGINAL-URL:https://sonderborg.dk
X-WR-CALDESC:Begivenheder for sonderborg.dk
REFRESH-INTERVAL;VALUE=DURATION:PT1H
X-Robots-Tag:noindex
X-PUBLISHED-TTL:PT1H
BEGIN:VTIMEZONE
TZID:Europe/Copenhagen
BEGIN:DAYLIGHT
TZOFFSETFROM:+0100
TZOFFSETTO:+0200
TZNAME:CEST
DTSTART:20250330T010000
END:DAYLIGHT
BEGIN:STANDARD
TZOFFSETFROM:+0200
TZOFFSETTO:+0100
TZNAME:CET
DTSTART:20251026T010000
END:STANDARD
BEGIN:DAYLIGHT
TZOFFSETFROM:+0100
TZOFFSETTO:+0200
TZNAME:CEST
DTSTART:20260329T010000
END:DAYLIGHT
BEGIN:STANDARD
TZOFFSETFROM:+0200
TZOFFSETTO:+0100
TZNAME:CET
DTSTART:20261025T010000
END:STANDARD
BEGIN:DAYLIGHT
TZOFFSETFROM:+0100
TZOFFSETTO:+0200
TZNAME:CEST
DTSTART:20270328T010000
END:DAYLIGHT
BEGIN:STANDARD
TZOFFSETFROM:+0200
TZOFFSETTO:+0100
TZNAME:CET
DTSTART:20271031T010000
END:STANDARD
END:VTIMEZONE
BEGIN:VEVENT
DTSTART;TZID=Europe/Copenhagen:20260509T100000
DTEND;TZID=Europe/Copenhagen:20260509T170000
DTSTAMP:20260423T183149
CREATED:20260421T122632Z
LAST-MODIFIED:20260421T122632Z
UID:1243928-1778320800-1778346000@sonderborg.dk
SUMMARY:Fødselsdag\, skumfest og bubble party
DESCRIPTION:Universe har fødselsdag og du er inviteret! \nGør dig klar til en dag fyldt med skum\, bobler og masser af sjov. Du kan godt kridte danseskoene – vi har nemlig hyret en DJ\, som kommer og spiller de fedeste sange\, og der venter underholdning og grin for børn i alle aldre! \nGlæd jer til en dag med masser af sæbebobler\, skum\, dans og smil!
URL:https://sonderborg.dk/event/foedselsdag-skumfest-og-bubble-party/
LOCATION:Universe Science Park\, Mads Patent Vej 1\, Nordborg\, 6430
ATTACH;FMTTYPE=image/jpeg:https://sonderborg.dk/wp-content/uploads/2026/04/foedselsdag.jpg
END:VEVENT
END:VCALENDAR