BEGIN:VCALENDAR
VERSION:2.0
PRODID:-//sonderborg.dk - ECPv6.15.17.1//NONSGML v1.0//EN
CALSCALE:GREGORIAN
METHOD:PUBLISH
X-WR-CALNAME:sonderborg.dk
X-ORIGINAL-URL:https://sonderborg.dk
X-WR-CALDESC:Begivenheder for sonderborg.dk
REFRESH-INTERVAL;VALUE=DURATION:PT1H
X-Robots-Tag:noindex
X-PUBLISHED-TTL:PT1H
BEGIN:VTIMEZONE
TZID:Europe/Copenhagen
BEGIN:DAYLIGHT
TZOFFSETFROM:+0100
TZOFFSETTO:+0200
TZNAME:CEST
DTSTART:20250330T010000
END:DAYLIGHT
BEGIN:STANDARD
TZOFFSETFROM:+0200
TZOFFSETTO:+0100
TZNAME:CET
DTSTART:20251026T010000
END:STANDARD
BEGIN:DAYLIGHT
TZOFFSETFROM:+0100
TZOFFSETTO:+0200
TZNAME:CEST
DTSTART:20260329T010000
END:DAYLIGHT
BEGIN:STANDARD
TZOFFSETFROM:+0200
TZOFFSETTO:+0100
TZNAME:CET
DTSTART:20261025T010000
END:STANDARD
BEGIN:DAYLIGHT
TZOFFSETFROM:+0100
TZOFFSETTO:+0200
TZNAME:CEST
DTSTART:20270328T010000
END:DAYLIGHT
BEGIN:STANDARD
TZOFFSETFROM:+0200
TZOFFSETTO:+0100
TZNAME:CET
DTSTART:20271031T010000
END:STANDARD
END:VTIMEZONE
BEGIN:VEVENT
DTSTART;VALUE=DATE:20260523
DTEND;VALUE=DATE:20260525
DTSTAMP:20260421T093423
CREATED:20260420T164609Z
LAST-MODIFIED:20260420T164609Z
UID:1243863-1779494400-1779667199@sonderborg.dk
SUMMARY:DFNA 2026
DESCRIPTION:Oplev Danmarks bedste naturlige atleter\, kæmpe om den prestigefylde titel “Danmarksmester i naturlig bodybuilding”.\nDFNA afholder det sidste ODC nogensinde. Hvem skal ende på toppen? \nVigtigt at vide om billetter \nDanish Federation of Natural Athletes er ansvarlig for dette arrangement\, herunder billetsalg. Alle spørgsmål vedrørende billetsalg skal rettes direkte til billetudbyderen. Koncertsalen Alsion kan ikke hjælpe ved spørgsmål om billetter.
URL:https://sonderborg.dk/event/dfna-2026/
LOCATION:Koncertsalen Alsion\, Alsion 2\, Sønderborg\, 6400\, Danmark
ATTACH;FMTTYPE=image/png:https://sonderborg.dk/wp-content/uploads/2026/04/ODC26_Alsion_u.tekst_1920x1080_u.logo_.png
END:VEVENT
END:VCALENDAR