BEGIN:VCALENDAR
VERSION:2.0
PRODID:-//sonderborg.dk - ECPv6.15.17.1//NONSGML v1.0//EN
CALSCALE:GREGORIAN
METHOD:PUBLISH
X-WR-CALNAME:sonderborg.dk
X-ORIGINAL-URL:https://sonderborg.dk
X-WR-CALDESC:Begivenheder for sonderborg.dk
REFRESH-INTERVAL;VALUE=DURATION:PT1H
X-Robots-Tag:noindex
X-PUBLISHED-TTL:PT1H
BEGIN:VTIMEZONE
TZID:Europe/Copenhagen
BEGIN:DAYLIGHT
TZOFFSETFROM:+0100
TZOFFSETTO:+0200
TZNAME:CEST
DTSTART:20250330T010000
END:DAYLIGHT
BEGIN:STANDARD
TZOFFSETFROM:+0200
TZOFFSETTO:+0100
TZNAME:CET
DTSTART:20251026T010000
END:STANDARD
BEGIN:DAYLIGHT
TZOFFSETFROM:+0100
TZOFFSETTO:+0200
TZNAME:CEST
DTSTART:20260329T010000
END:DAYLIGHT
BEGIN:STANDARD
TZOFFSETFROM:+0200
TZOFFSETTO:+0100
TZNAME:CET
DTSTART:20261025T010000
END:STANDARD
BEGIN:DAYLIGHT
TZOFFSETFROM:+0100
TZOFFSETTO:+0200
TZNAME:CEST
DTSTART:20270328T010000
END:DAYLIGHT
BEGIN:STANDARD
TZOFFSETFROM:+0200
TZOFFSETTO:+0100
TZNAME:CET
DTSTART:20271031T010000
END:STANDARD
END:VTIMEZONE
BEGIN:VEVENT
DTSTART;TZID=Europe/Copenhagen:20260422T190000
DTEND;TZID=Europe/Copenhagen:20260422T190000
DTSTAMP:20260420T150228
CREATED:20250603T132649Z
LAST-MODIFIED:20250603T132649Z
UID:1135585-1776884400-1776884400@sonderborg.dk
SUMMARY:Conrad Molden
DESCRIPTION:Engelssprogede Conrad Molden kommer inden om Sønderborg Teater med sit show “Kom ikke her og play King Carrot”. Showet foregår på 90% english\, 10% pølsesnak\, 100% ydmyg.\nAfter 12 years Conrad still thinks Denmark is a strange\, yet dejlig land. He’s impressed locals taken the time to learn Danish\, loves to say “vampyr flagermus“\, takes rugrød on holiday\, thinks minimælk should always come in a small carton and drinks the DSB tap water (it’s cleaner than anything in England). He’s truly integrated. \nAfter four sold out national tours\, Conrad will be back in Sønderborg but he won’t act like he’s better than other people. \n“King Carrot” is a very special show filled with his unique danglish ordforråd\, lots of jokes and a hilarious international look at life in DK. \n90% english\, 10% pølsesnak\, 100% ydmyg \nConrad is an icon for English-speaking comedy in Denmark. He’s a father\, husband\, writer for the Copenhagen Post and performs shows for wonderful audiences all over Denmark and Europe. Young\, old\, Dane or expat – everyone is guaranteed a hilarious evening of extreme hygge.
URL:https://sonderborg.dk/event/conrad-molden/
LOCATION:Sønderborg Teater\, Strandvej 1\, Sønderborg\, 6400
CATEGORIES:Comedy
ATTACH;FMTTYPE=image/jpeg:https://sonderborg.dk/wp-content/uploads/2025/06/KC-1920x1080-clean.jpg
END:VEVENT
END:VCALENDAR