BEGIN:VCALENDAR
VERSION:2.0
PRODID:-//sonderborg.dk - ECPv6.15.17.1//NONSGML v1.0//EN
CALSCALE:GREGORIAN
METHOD:PUBLISH
X-WR-CALNAME:sonderborg.dk
X-ORIGINAL-URL:https://sonderborg.dk
X-WR-CALDESC:Begivenheder for sonderborg.dk
REFRESH-INTERVAL;VALUE=DURATION:PT1H
X-Robots-Tag:noindex
X-PUBLISHED-TTL:PT1H
BEGIN:VTIMEZONE
TZID:Europe/Copenhagen
BEGIN:DAYLIGHT
TZOFFSETFROM:+0100
TZOFFSETTO:+0200
TZNAME:CEST
DTSTART:20250330T010000
END:DAYLIGHT
BEGIN:STANDARD
TZOFFSETFROM:+0200
TZOFFSETTO:+0100
TZNAME:CET
DTSTART:20251026T010000
END:STANDARD
BEGIN:DAYLIGHT
TZOFFSETFROM:+0100
TZOFFSETTO:+0200
TZNAME:CEST
DTSTART:20260329T010000
END:DAYLIGHT
BEGIN:STANDARD
TZOFFSETFROM:+0200
TZOFFSETTO:+0100
TZNAME:CET
DTSTART:20261025T010000
END:STANDARD
BEGIN:DAYLIGHT
TZOFFSETFROM:+0100
TZOFFSETTO:+0200
TZNAME:CEST
DTSTART:20270328T010000
END:DAYLIGHT
BEGIN:STANDARD
TZOFFSETFROM:+0200
TZOFFSETTO:+0100
TZNAME:CET
DTSTART:20271031T010000
END:STANDARD
END:VTIMEZONE
BEGIN:VEVENT
DTSTART;TZID=Europe/Copenhagen:20260606T100000
DTEND;TZID=Europe/Copenhagen:20260606T170000
DTSTAMP:20260423T205136
CREATED:20260421T122632Z
LAST-MODIFIED:20260421T122632Z
UID:1243939-1780740000-1780765200@sonderborg.dk
SUMMARY:Brand og redning
DESCRIPTION:Kom og mød hverdagens uniformerede helte! \n\nSuperseje hunde med de bedste snuder og modige hverdagshelte – det er noget af det\, du og din familie kan glæde jer til ved vores Brand- og redningsevent! \n  \nFå en god snak med en brandmand\, en ambulancefører eller en politibetjent. Gem en genstand for de dygtige politihunde\, og se\, hvordan de bruger deres snuder til at finde dem igen. Eller bliv klogere på hvordan du slukker en ildebrand i et hus. \n  \nDet bliver uden tvivl en vild dag pakket med action for både store og små!
URL:https://sonderborg.dk/event/brand-og-redning/
LOCATION:Universe\, Mads Patent Vej 1\, Nordborg\, 6430
ATTACH;FMTTYPE=image/jpeg:https://sonderborg.dk/wp-content/uploads/2026/04/image00089-scaled.jpeg
END:VEVENT
END:VCALENDAR