BEGIN:VCALENDAR
VERSION:2.0
PRODID:-//sonderborg.dk - ECPv6.15.17.1//NONSGML v1.0//EN
CALSCALE:GREGORIAN
METHOD:PUBLISH
X-ORIGINAL-URL:https://sonderborg.dk
X-WR-CALDESC:Begivenheder for sonderborg.dk
REFRESH-INTERVAL;VALUE=DURATION:PT1H
X-Robots-Tag:noindex
X-PUBLISHED-TTL:PT1H
BEGIN:VTIMEZONE
TZID:Europe/Copenhagen
BEGIN:DAYLIGHT
TZOFFSETFROM:+0100
TZOFFSETTO:+0200
TZNAME:CEST
DTSTART:20250330T010000
END:DAYLIGHT
BEGIN:STANDARD
TZOFFSETFROM:+0200
TZOFFSETTO:+0100
TZNAME:CET
DTSTART:20251026T010000
END:STANDARD
BEGIN:DAYLIGHT
TZOFFSETFROM:+0100
TZOFFSETTO:+0200
TZNAME:CEST
DTSTART:20260329T010000
END:DAYLIGHT
BEGIN:STANDARD
TZOFFSETFROM:+0200
TZOFFSETTO:+0100
TZNAME:CET
DTSTART:20261025T010000
END:STANDARD
BEGIN:DAYLIGHT
TZOFFSETFROM:+0100
TZOFFSETTO:+0200
TZNAME:CEST
DTSTART:20270328T010000
END:DAYLIGHT
BEGIN:STANDARD
TZOFFSETFROM:+0200
TZOFFSETTO:+0100
TZNAME:CET
DTSTART:20271031T010000
END:STANDARD
END:VTIMEZONE
BEGIN:VEVENT
DTSTART;TZID=Europe/Copenhagen:20260707T100000
DTEND;TZID=Europe/Copenhagen:20260707T113000
DTSTAMP:20260420T212859
CREATED:20201001T063107Z
LAST-MODIFIED:20260112T131422Z
UID:10014314-1783418400-1783423800@sonderborg.dk
SUMMARY:Webinar - Job Search in Denmark (WiD)
DESCRIPTION:Work In Denmark invites you to join these job search webinars. \nCould you use some practical help and guidance on how to successfully search for a job in\nDenmark? Workindenmark invites you to join our webinar. You will be introduced to\nimportant aspects of job search in Denmark and you will get an insight into writing a CV and\ncover letter according to Danish requirements. Our webinar is an elaboration of the main\npoints in our e-learning course; Job Search in Denmark. \nRegistration online: Events for jobseekers\nFirst come\, first served. \nUpcoming webinars in 2026: \nJanuary 13\, March 10\, May 12 and July 7 – always from 10-11.30 a.m.
URL:https://sonderborg.dk/event/webinar-job-search-in-denmark-wid/2026-07-07/
CATEGORIES:Job og uddannelse,Newcomer,Zuzügler
ATTACH;FMTTYPE=image/jpeg:https://sonderborg.dk/wp-content/uploads/2020/10/Baggrund-event.jpg
END:VEVENT
BEGIN:VEVENT
DTSTART;TZID=Europe/Copenhagen:20260707T190000
DTEND;TZID=Europe/Copenhagen:20260707T220000
DTSTAMP:20260420T212859
CREATED:20220602T113619Z
LAST-MODIFIED:20260309T093136Z
UID:10014731-1783450800-1783461600@sonderborg.dk
SUMMARY:Deutsch-Dänischer Stammtisch für Zuzügler
DESCRIPTION:Bist du neu in der Gemeinde Sønderborg oder lebst du hier schon eine Weile? Dann komme zu unserem monatlichen Stammtisch und treffe andere Zuzügler sowie Dänen aus der Gegend. \nDer Stammtisch findet immer am 1. Dienstag im Monat statt von 19 Uhr bis open end. Wir treffen uns immer im SKAAL – Craft Beer & Food\, Rådhustorvet 6 in Sønderborg. \nDer Stammtisch findet auf Deutsch statt. Alle sind willkommen – Zuzügler und Einheimische. Eine Anmeldung ist nicht erforderlich.
URL:https://sonderborg.dk/event/stammtisch/2026-07-07/
LOCATION:SKAAL\, Rådhustorvet 6\, Sønderborg\, 6400
CATEGORIES:Zuzügler
ATTACH;FMTTYPE=image/jpeg:https://sonderborg.dk/wp-content/uploads/2022/06/Stammtisch-1.jpg
END:VEVENT
END:VCALENDAR