BEGIN:VCALENDAR
VERSION:2.0
PRODID:-//sonderborg.dk - ECPv6.15.17.1//NONSGML v1.0//EN
CALSCALE:GREGORIAN
METHOD:PUBLISH
X-ORIGINAL-URL:https://sonderborg.dk
X-WR-CALDESC:Begivenheder for sonderborg.dk
REFRESH-INTERVAL;VALUE=DURATION:PT1H
X-Robots-Tag:noindex
X-PUBLISHED-TTL:PT1H
BEGIN:VTIMEZONE
TZID:Europe/Copenhagen
BEGIN:DAYLIGHT
TZOFFSETFROM:+0100
TZOFFSETTO:+0200
TZNAME:CEST
DTSTART:20250330T010000
END:DAYLIGHT
BEGIN:STANDARD
TZOFFSETFROM:+0200
TZOFFSETTO:+0100
TZNAME:CET
DTSTART:20251026T010000
END:STANDARD
BEGIN:DAYLIGHT
TZOFFSETFROM:+0100
TZOFFSETTO:+0200
TZNAME:CEST
DTSTART:20260329T010000
END:DAYLIGHT
BEGIN:STANDARD
TZOFFSETFROM:+0200
TZOFFSETTO:+0100
TZNAME:CET
DTSTART:20261025T010000
END:STANDARD
BEGIN:DAYLIGHT
TZOFFSETFROM:+0100
TZOFFSETTO:+0200
TZNAME:CEST
DTSTART:20270328T010000
END:DAYLIGHT
BEGIN:STANDARD
TZOFFSETFROM:+0200
TZOFFSETTO:+0100
TZNAME:CET
DTSTART:20271031T010000
END:STANDARD
END:VTIMEZONE
BEGIN:VEVENT
DTSTART;VALUE=DATE:20260310
DTEND;VALUE=DATE:20260323
DTSTAMP:20260423T124856
CREATED:20250725T115635Z
LAST-MODIFIED:20260423T061854Z
UID:10012842-1773100800-1774223999@sonderborg.dk
SUMMARY:SDB:DOX 2026
DESCRIPTION:Se de nyeste dokumentarfilm i hyggelige\, anderledes rammer.\nGlæd dig til 10. – 22. marts 2026\, når Sønderborg atter inviterer indenfor til SDB:DOX\, hvor en række forskellige aktører og spillesteder viser nogle af de allernyeste danske og internationale dokumentarfilm.\nSe med her: \n10. marts: Biblioteket Sønderborg: Maliinka (Åbningsfilm inkl. et glas bobler)\n11. marts:  Biblioteket Sønderborg: A World Gone Mad – The War Diaries of Astrid Lindgren\n12. marts: Augustiana Kunstpark & Kunsthal: Alle os og siloen\n14. marts: Sønderborg Slot – Riddersalen: Christiania\n15. marts: Sønderborg Slot – Riddersalen: Merckx – The Race of A Champion\n16. marts (eftermiddag): Kultur i Gråsten – i BHJ Salen/Ahlmannsparken: A World Gone Mad – The War Diaries of Astrid Lindgren\n16. marts (aften): Koncertsalen Alsion – Cafe Alsion: Intelligence Rising\n17. marts:  Brætspilscafeen “Æ Bræt”: Bouchra\n18. marts: Biblioteket Nordborg: Mysteriet om menopausen\n19. marts: Det Sønderjyske Sangcenter/ KASERNEN: We Want the Funk (Afslutningsfest med drink og musik) \nI 2026 er følgende arrangører med ombord: Museum Sønderjylland på Sønderborg Slot\, Biblioteket Sønderborg i Multikulturhuset og Nordborg Bibliotek\, Brætspilscafeen Æ Bræt\, Det Sønderjyske Sangcenter på Sønderborg Kaserne\, Kultur i Gråsten i BHJ Salen i Ahlmannsparken\, Augustiana samt Koncertsalen Alsion i Cafe Alsion. \nSDB:DOX er en del af DOX:DANMARK og CPH:DOX.
URL:https://sonderborg.dk/event/sdbdox-2026/
CATEGORIES:Borgermøder, debatter, foredrag m.m.,DOX,Teater, revy og film
ATTACH;FMTTYPE=image/jpeg:https://sonderborg.dk/wp-content/uploads/2025/07/SDBDOX_logo-scaled.jpg
END:VEVENT
BEGIN:VEVENT
DTSTART;TZID=Europe/Copenhagen:20260311T160000
DTEND;TZID=Europe/Copenhagen:20260311T180000
DTSTAMP:20260423T124856
CREATED:20260127T080847Z
LAST-MODIFIED:20260422T120729Z
UID:10014336-1773244800-1773252000@sonderborg.dk
SUMMARY:Hjerneugen 2026
DESCRIPTION:I forbindelse med den internationale Hjerneuge 2026 inviterer Sønderborg Kommune til foredrag og minimesse. Arrangementet er gratis.   \nOverskriften er: “At komme videre i livet efter en hjerneskade  –erfaringer\, håb og veje frem”  \nForedraget bliver en kombination af faglig viden og personlige erfaringer.   \nErgoterapeut Anna Grethe Aamand vil kort fortælle om de følger der kan opstå efter en skade på hjernen\, og hvordan rehabilitering handler om at finde ressourcerne\, tage små skridt og opbygge struktur i hverdagen. Derefter fortæller to ramte deres personlige historier om hvordan man kan finde livskvalitet\, selv når alt er forandret. Efter foredraget inviterer vi til en minimesse\, hvor du kan møde foreninger og tilbud fra hjerneskadeområdet. Du kan bl.a. møde Hjerneskadeforeningen\, Hjernesagen og Købmandsgården.   \nHvem kan deltage? Alle med interesse for hjerneskadeområdet – ramte\, pårørende\, fagfolk og andre nysgerrige. 
URL:https://sonderborg.dk/event/hjerneugen-2026/
LOCATION:Reimersskolen\, Kirke Alle 9\, Sønderborg\, 6400
CATEGORIES:Borgermøder, debatter, foredrag m.m.
ATTACH;FMTTYPE=image/png:https://sonderborg.dk/wp-content/uploads/2026/01/Hjernen-i-fokus-logo.png
END:VEVENT
END:VCALENDAR