BEGIN:VCALENDAR
VERSION:2.0
PRODID:-//sonderborg.dk - ECPv6.15.17.1//NONSGML v1.0//EN
CALSCALE:GREGORIAN
METHOD:PUBLISH
X-ORIGINAL-URL:https://sonderborg.dk
X-WR-CALDESC:Begivenheder for sonderborg.dk
REFRESH-INTERVAL;VALUE=DURATION:PT1H
X-Robots-Tag:noindex
X-PUBLISHED-TTL:PT1H
BEGIN:VTIMEZONE
TZID:Europe/Copenhagen
BEGIN:DAYLIGHT
TZOFFSETFROM:+0100
TZOFFSETTO:+0200
TZNAME:CEST
DTSTART:20250330T010000
END:DAYLIGHT
BEGIN:STANDARD
TZOFFSETFROM:+0200
TZOFFSETTO:+0100
TZNAME:CET
DTSTART:20251026T010000
END:STANDARD
BEGIN:DAYLIGHT
TZOFFSETFROM:+0100
TZOFFSETTO:+0200
TZNAME:CEST
DTSTART:20260329T010000
END:DAYLIGHT
BEGIN:STANDARD
TZOFFSETFROM:+0200
TZOFFSETTO:+0100
TZNAME:CET
DTSTART:20261025T010000
END:STANDARD
BEGIN:DAYLIGHT
TZOFFSETFROM:+0100
TZOFFSETTO:+0200
TZNAME:CEST
DTSTART:20270328T010000
END:DAYLIGHT
BEGIN:STANDARD
TZOFFSETFROM:+0200
TZOFFSETTO:+0100
TZNAME:CET
DTSTART:20271031T010000
END:STANDARD
END:VTIMEZONE
BEGIN:VEVENT
DTSTART;TZID=Europe/Copenhagen:20260205T170000
DTEND;TZID=Europe/Copenhagen:20260205T200000
DTSTAMP:20260423T101718
CREATED:20260120T081748Z
LAST-MODIFIED:20260422T120746Z
UID:10014328-1770310800-1770321600@sonderborg.dk
SUMMARY:Mød ”Mælkebøttebarnet” Jeannet Jensen
DESCRIPTION:Fra social arv til styrke: Fællesspisning og foredrag på Værftet\nEGERNSUND – Torsdag den 5. februar inviterer KGGO til en aften\, der kombinerer klassisk dansk mad med en stærk personlig fortælling. Mød ”Mælkebøttebarnet” Jeannet Jensen til et foredrag om håb\, tilgivelse og kampgejst. \nForeningen KGGO slår dørene op til endnu en omgang fællesspisning på Værftet i Egernsund. Aftenen er dedikeret til alle\, der ønsker at være en del af et varmt fællesskab og samtidig blive inspireret af en historie fra det virkelige liv. \nMad og fortælling i øjenhøjde\nAftenen starter med en dansk klassiker: forloren hare med kartofler og rodfrugter. Menuen danner rammen om den hyggelige og uformelle stemning\, som KGGO er kendt for. \nEfter maden overtager Jeannet Jensen ordet. Under titlen “Et Mælkebøttebarn Giver Aldrig Op” tager hun publikum med på en rejse gennem en svær opvækst med misbrug i hjemmet. Hendes budskab er klart: Man kan bryde den sociale arv og finde styrken til at ”spire igennem asfalten”. Jeannet giver publikum konkrete redskaber til selvindsigt og tilgivelse. \nDet praktiske\nHvornår: Torsdag den 5. februar 2026. Maden serveres kl. 17.00 (dørene åbner 16.30). \nHvor: Værftet – Anker’s\, Marinavej 1\, Egernsund. \nPris: 100\,- for medlemmer / 150\,- for ikke-medlemmer. \nBetaling: Husk kontanter til betaling ved indgangen. \nTilmelding: SMS til Kirsten på tlf. 20 25 10 97. \nDer vil være mulighed for at købe Jeannet Jensens bog til særpris på 150\,- i løbet af aftenen.
URL:https://sonderborg.dk/event/moed-maelkeboettebarnet-jeannet-jensen/
LOCATION:Værftet Anker´s\, Marinavej 1\, Egernsund\, 6320
CATEGORIES:Borgermøder, debatter, foredrag m.m.
ATTACH;FMTTYPE=image/jpeg:https://sonderborg.dk/wp-content/uploads/2026/01/jeanette-jensen-maelkeboettebarn.jpg
END:VEVENT
BEGIN:VEVENT
DTSTART;TZID=Europe/Copenhagen:20260218T190000
DTEND;TZID=Europe/Copenhagen:20260218T190000
DTSTAMP:20260423T101718
CREATED:20241004T133141Z
LAST-MODIFIED:20260422T120746Z
UID:10008211-1771441200-1771441200@sonderborg.dk
SUMMARY:Nils Villemoes: Bøvl
DESCRIPTION:I mere end et årti har Nils Villemoes udfordret og inspireret over 60.000 gæster landet over med sit ikoniske show om ledelse. Nu lægger Nils Villemoes mikrofonen på hylden\, og det hele kulminerer\, når han drager rundt i hele landet med The Final Shows!\nInspirerende og humoristisk foredrag for alle – uanset om du selv er leder\, bliver ledet eller bare er interesseret i en skæv og underholdende vinkel på ledelse. \nEn tour de force på en stand-up-agtig aften\nGennem fire årtier har Nils Villemoes revset\, drillet og udfordret erhvervslivet og den offentlige sektor –  for som han siger: “Ledelse vedrører os alle – ingen slipper fri”. Med masser af humor spidder Nils Villemoes samfundsudviklingen\, ledelsesteorier- og tendenser samt de klassiske begreber\, vi i et væk bruger både professionelt og privat. \nLedelse\, udvikling\, strategi og samarbejde – kort sagt BØVL!\nLedelse handler om at lave en strategi\, udvikle en organisation og vigtigst af alt at skabe rammer for samarbejde. Men det er ikke altid så let\, som det lyder – tværtimod er det ofte ret bøvlet! Vi har brug for noget at gå op i\, noget af stå op til\, noget at slås for. Det er bøvl. Uden bøvl bliver livet tomt og indholdsløst. Det er ifølge Nils Villemoes faktisk et af samfundets allerstørste problemer. Der er ikke bøvl nok til alle! \nOm Nils Villemoes\nNils Villemoes er en af landets mest ikoniske og populære foredragsholdere indenfor ledelse. Han har mere end 35 års erfaring som lektor ved Institut for Organisation og Virksomhedsledelse på Handelshøjskolen i Aarhus\, er uddannet cand. merc. og er autodidakt ekspert i ledelse\, udvikling og strategi. \nVi håber\, at vi ses til et underholdende og alternativt ledelsesforedrag om sammenhængen mellem liv\, leg og lyst\, løn og ledelse\, længsel og lediggang samt løgn og latin!!!
URL:https://sonderborg.dk/event/nils-villemoes-boevl/
LOCATION:Sønderborg Teater\, Strandvej 1\, Sønderborg\, 6400
CATEGORIES:Borgermøder, debatter, foredrag m.m.
ATTACH;FMTTYPE=image/png:https://sonderborg.dk/wp-content/uploads/2024/10/skaerm_villemoes.png
END:VEVENT
BEGIN:VEVENT
DTSTART;TZID=Europe/Copenhagen:20260219T160000
DTEND;TZID=Europe/Copenhagen:20260219T174500
DTSTAMP:20260423T101718
CREATED:20251112T072502Z
LAST-MODIFIED:20260422T120746Z
UID:10013937-1771516800-1771523100@sonderborg.dk
SUMMARY:Hvad med Gaza og Jerusalem?
DESCRIPTION:Jødedom\, Kristendom og Islam i to historiske byer i Palæstina. \n\n\nPalæstina er ”landet hvor kilderne sprang” for flere af verdens religioner. Og Jerusalem er stedet\, hvor Jesus og Muhammad steg til himmels\, og hvor Dommedag engang skal indfinde sig. Når man ser billeder fra Gaza\, kan man tænke\, at Dommedag faktisk er ved at indfinde sig. \nMen Gaza har også\, som Jerusalem\, en lang historie med sameksistens mellem religionerne. \nDette spændende foredrag med professor Jakob Skovgaard-Petersen fortæller om Jerusalem og Gaza og Palæstinas tradition for sameksistens og sammenstød. \nDato: Torsdag den 19/2 2026 \nTid:  16.00-17.45 \nSted: SDU Sønderborg\, Alsion\, Sønderborg \nPris: 100 kr. \nArrangeret af Sønderborg Folkeuniversitet. \nAlle er velkomne.
URL:https://sonderborg.dk/event/hvad-med-gaza-og-jerusalem/
LOCATION:Alsion 2\, 6400 Sønderborg\, Alsion 2\, Sønderborg\, 6400
CATEGORIES:Borgermøder, debatter, foredrag m.m.
ATTACH;FMTTYPE=image/jpeg:https://sonderborg.dk/wp-content/uploads/2025/11/IMG_5797.jpeg
END:VEVENT
BEGIN:VEVENT
DTSTART;TZID=Europe/Copenhagen:20260223T190000
DTEND;TZID=Europe/Copenhagen:20260223T210000
DTSTAMP:20260423T101718
CREATED:20250424T184252Z
LAST-MODIFIED:20260422T120745Z
UID:10011607-1771873200-1771880400@sonderborg.dk
SUMMARY:Verdens bedste Nikolaj
DESCRIPTION:Mød landstræneren for de danske håndboldherrer i et unikt foredrag med Nikolaj Jacobsen. Du kommer helt tæt på manden\, der har skrevet sig ind i håndboldhistorien og vundet danskernes hjerter med sin store personlighed og exceptionelle bedrifter som spiller og ikke mindst træner.\nVejen til succes\nGennem hele sin barndom og opvækst havde han hørt om det danske VM-sølv i 1967\, men nåede ikke selv i nærheden af VM-medaljer i den aktive karriere\, han måtte indstille på grund af skader. \nSiden gik han trænervejen\, og så lykkedes alt for Nikolaj Jacobsen. Med fire gange VM-guld\, en OL-sølvmedalje og EM-sølv har han indskrevet sig på de allerforreste sider i dansk og international håndboldhistorie. \nVerdens bedste\nKom helt tæt på Nikolaj Jacobsen\, hvor landstræneren blandt andet fortæller om de menneskelige tricks\, han benytter for at få sine spillere til at yde mere og bedre\, end de selv troede var muligt. \nMed masser af underholdende anekdoter forklarer Nikolaj Jacobsen\, hvordan han flere gange har taget hårde opgør med det eksisterende\, fordi der altid er andre veje at gå end de konventionelle. \nNikolaj ved langtfra altid bedre – men han ved\, hvad der fungerer for ham\, når han skal få en samling individualister til at fungere som en homogen enhed. Og det er derfor\, han er Verdens Bedste Nikolaj.
URL:https://sonderborg.dk/event/verdens-bedste-nikolaj/
LOCATION:Koncertsalen Alsion\, Alsion 2\, Sønderborg\, 6400\, Danmark
CATEGORIES:Borgermøder, debatter, foredrag m.m.
ATTACH;FMTTYPE=image/jpeg:https://sonderborg.dk/wp-content/uploads/2025/04/nikolaj-scaled.jpg
END:VEVENT
BEGIN:VEVENT
DTSTART;TZID=Europe/Copenhagen:20260223T190000
DTEND;TZID=Europe/Copenhagen:20260223T220000
DTSTAMP:20260423T101718
CREATED:20251124T072432Z
LAST-MODIFIED:20260423T061854Z
UID:10013971-1771873200-1771884000@sonderborg.dk
SUMMARY:Foredrag med filminstruktør Frelle Petersen
DESCRIPTION:Hør Frelle Petersen fortælle om sin nyeste sønderjyske film “Hjem kære hjem”. Om tilblivelsen og tankerne bag filmen\, krydret med sjove anekdoter.\n \nFrelle Petersen fortæller i foredraget om\, hvordan han fandt sin vej ind i filmbranchen. Og hvilken kendt folkekær person\, der hjalp ham i gang og hvilken betydning det har haft for Frelles virke og udvikling i filmbranchen. \nHør ham også fortælle om den nyeste sønderjyske film “Hjem kære hjem”. Om arbejdsprocesser\, tilblivelse\, tankerne bag og sjove anekdoter. Research er en vigtig del af arbejdet for Frelle Petersen. I forbindelse med manus-udviklingen til “Hjem kære hjem” arbejdede Frelle Petersen som kommunal hjemmehjælper i Sønderjylland. Hvordan brugte han den erfaring og oplevelse i sin film? \n 
URL:https://sonderborg.dk/event/foredrag-med-filminstruktoer-frelle-petersen/
LOCATION:Ahlmannsparken\, BHJ-salen\, Ahlefeldvej 4\, Gråsten\, 6300
CATEGORIES:Borgermøder, debatter, foredrag m.m.,Teater, revy og film
ATTACH;FMTTYPE=image/jpeg:https://sonderborg.dk/wp-content/uploads/2025/11/Hjem-kaere-hjem-optagelser-foto-Rolf-Konov-1-scaled.jpeg
END:VEVENT
BEGIN:VEVENT
DTSTART;TZID=Europe/Copenhagen:20260225T190000
DTEND;TZID=Europe/Copenhagen:20260225T220000
DTSTAMP:20260423T101718
CREATED:20251208T073418Z
LAST-MODIFIED:20260422T120745Z
UID:10013994-1772046000-1772056800@sonderborg.dk
SUMMARY:Generalforsamling i Haveselskabet Sønderborg og foredrag om frøindsamling
DESCRIPTION:Mette Juhl Petersen kommer med et oplæg om frøindsamling og der vil være mulighed for at købe frø. \nGeneralforsamlingen er i følge vedtægter for foreningen og vil blive afhold i pausen. \nArrangementet er gratis for medlemmer. \nPris for ikke medlemmer er 50 kr. \nKaffe/te og kage er med i prisen. \nBetaling sker på stedet \nTilmelding skal ske til Birgit Damm på tlf: 2249 2295/birgit@da2m.dk
URL:https://sonderborg.dk/event/generalforsamling-i-haveselskabet-soenderborg-og-foredrag-om-froeindsamling/
LOCATION:Frivillighedens Hus\, 6400 Sønderborg\, Perlegade 50\, Sønderborg\, 6400
CATEGORIES:Borgermøder, debatter, foredrag m.m.
ATTACH;FMTTYPE=image/jpeg:https://sonderborg.dk/wp-content/uploads/2025/12/FroeMette.jpg
END:VEVENT
END:VCALENDAR