BEGIN:VCALENDAR
VERSION:2.0
PRODID:-//sonderborg.dk - ECPv6.15.17.1//NONSGML v1.0//EN
CALSCALE:GREGORIAN
METHOD:PUBLISH
X-ORIGINAL-URL:https://sonderborg.dk
X-WR-CALDESC:Begivenheder for sonderborg.dk
REFRESH-INTERVAL;VALUE=DURATION:PT1H
X-Robots-Tag:noindex
X-PUBLISHED-TTL:PT1H
BEGIN:VTIMEZONE
TZID:Europe/Copenhagen
BEGIN:DAYLIGHT
TZOFFSETFROM:+0100
TZOFFSETTO:+0200
TZNAME:CEST
DTSTART:20250330T010000
END:DAYLIGHT
BEGIN:STANDARD
TZOFFSETFROM:+0200
TZOFFSETTO:+0100
TZNAME:CET
DTSTART:20251026T010000
END:STANDARD
BEGIN:DAYLIGHT
TZOFFSETFROM:+0100
TZOFFSETTO:+0200
TZNAME:CEST
DTSTART:20260329T010000
END:DAYLIGHT
BEGIN:STANDARD
TZOFFSETFROM:+0200
TZOFFSETTO:+0100
TZNAME:CET
DTSTART:20261025T010000
END:STANDARD
BEGIN:DAYLIGHT
TZOFFSETFROM:+0100
TZOFFSETTO:+0200
TZNAME:CEST
DTSTART:20270328T010000
END:DAYLIGHT
BEGIN:STANDARD
TZOFFSETFROM:+0200
TZOFFSETTO:+0100
TZNAME:CET
DTSTART:20271031T010000
END:STANDARD
END:VTIMEZONE
BEGIN:VEVENT
DTSTART;TZID=Europe/Copenhagen:20260416T193000
DTEND;TZID=Europe/Copenhagen:20260416T213000
DTSTAMP:20260423T130253
CREATED:20251017T131333Z
LAST-MODIFIED:20260422T120728Z
UID:10013828-1776367800-1776375000@sonderborg.dk
SUMMARY:Glenn Bech – Parforhold og klasse // Sønderborghus
DESCRIPTION:Kan alle mennesker lære at tage imod kærlighed? \nI forfatter og psykolog Glenn Bechs seneste roman\, Jeg er ikke færdig med dig\, følger vi Lasse og hans forsøg på at forene en turbulent opvækst med et nutidigt kæresteforhold til den evigt rummelige Emil. \nFor hvordan håndterer man følelserne voksent\, når rollemodellerne i ens barndom svigtede? Hvordan sænker man paraderne og bliver mindre vagtsom\, når livet indtil har været præget af overlevelse\, kaos og undtagelsestilstand? Hvordan gør et menneske – med traumet som ballast – sig overhovedet forståelig for den anden? Hvordan kommunikerer man ærligt og sårbart\, når ethvert svaghedstegn gav anledning til hån og ydmygelse? \nDe seneste års debat om mønsterbrydere har ofte fokuseret på ydre omstændigheder som social baggrund og karriere\, men hvad taber den\, der forlader sin familie for at ?vinde i livet?? \nKomikeren Dirch Passer optrådte ofte i beruset tilstand\, anglende efter klapsalver og anerkendelse\, mens toppolitikeren Inge Fischer Møller opgav\, da offentligheden og kollegerne heller ikke gav hende\, hvad hun manglede som lille. \nMed hvad så med Lasse og Emil? Hvor dybt kan den ene tillade sig at falde\, og hvor længe skal den anden stå klar med åbne arme? \n_____________ \nGlenn Bech\, f. i Horsens 8. april 1991. Han er uddannet psykolog fra Aarhus Universitet i 2017 og blev færdig på Forfatterskolen i 2019.\nI januar 2021 debuterede han som forfatter med den 552 sider store roman Farskibet\, der af anmelderne er blevet kaldt bl.a. “en rasende flot debut”\, “en overvældende kraftudfoldelse”\, “et stærkt vidnesbyrd”\, “et enormt ambitiøst kampskrift” og “et mesterværk”. \nFor Farskibet har Glenn Bech modtaget Blixenprisen 2022 i kategorien ?Årets roman? og debutantprisen Munch-Christensens Kulturlegat. Romanen var shortlistet til Bogforums Debutantpris 2021 og indstillet til Weekendavisens Litteraturpris 2021. Derudover har Glenn Bech modtaget Albert Dams Mindelegat 2021\, der tildeles ?en talentfuld dansk forfatter?. \nI september 2022 udkom Jeg anerkender ikke længere jeres autoritet\, der har genren “manifest”. Anmelderne skrev bl.a.: “Hans manifest er en redningsplanke til den\, der føler sig undertrykt og alene”\, “Gid man kunne indsætte en trompetfanfare for at forkynde\, at her kommer et værk væltende. Og gør ondt og gør godt og gør noget” og “En meget vigtig og nødvendig bog”.\nFor Jeg anerkender ikke længere jeres autoritet modtog Glenn Bech i marts 2023 Politikens Litteraturpris 2022.
URL:https://sonderborg.dk/event/glenn-bech-parforhold-og-klasse-soenderborghus/
LOCATION:Sønderborghus\, Martin Nyrops Plads 2\, Sønderborg\, 6400
CATEGORIES:Borgermøder, debatter, foredrag m.m.
ATTACH;FMTTYPE=image/png:https://sonderborg.dk/wp-content/uploads/2025/10/GB_horisonalt_fotograf_Sara_Galbiati-scaled.png
END:VEVENT
BEGIN:VEVENT
DTSTART;TZID=Europe/Copenhagen:20260421T200000
DTEND;TZID=Europe/Copenhagen:20260421T200000
DTSTAMP:20260423T130253
CREATED:20251006T141310Z
LAST-MODIFIED:20260422T120727Z
UID:10013728-1776801600-1776801600@sonderborg.dk
SUMMARY:Anders Agger Indefra
DESCRIPTION:Anders Agger Indefra… \n… er et skarpt og åbenhjertigt medieforedrag\, hvor tilhørerne med humor\, kant og tankevækkende klip bliver klædt på til at forstå mekanismerne i tv-branchen. \nAnders Agger har gennem mange i år i DR opbygget en særlig stil i en stribe dokumentarserier\, hvor han udfordrer vores måde at leve på. \nHan har med serien “INDEFRA med Anders Agger” vendt op og ned på normal-begreberne\, når han skildrer alt fra hjemløse kvinder omkring Reden i Aarhus\, over varetægtsfængslede i Vestre Fængsel – til en tæt\, fordomsfri beskrivelse af unge med psykiske problemer. \nSideløbende har Anders Agger gennem mange sæsoner fastholdt sit samarbejde med tv-kokken Anne Hjernøe. \nSammen har de Anne & Anders-programmerne forsøgt at gøre verden mindre\, når de har spejlet danskheden – fra Afrika og til Mellemøsten – på deres antropologiske tv-rejse i bedste sendetid søndag aften. \nAnders Agger debuterede med dokumentaren “Heavy Agger – 14 år senere” tilbage i 1999 – om en klike unge\, heavy rock-unge i Thy\, som han siden har genbesøgt – og fik sit egentlige gennembrud på tv med serien “Sømanden & Juristen” fra et hospice i Vestjylland. \nAnders Agger har modtaget en stribe priser for sit arbejde\, senest Landsforeningens SINDs samfundspris og Det Danske Folkesundheds folkesundspris i 2024. \nI 2021 modtog han Modersmålsprisen – og har desuden udgivet bogen “Kærlighed” med fotografen Mingo Nørager. \nAnders Agger Indefra er et tankevækkende foredrag med kant og humor\, hvor du kommer med bag kulissen og ind i de mange etiske overvejelser. \n… \nForedragslængde: ca. 1 time og 20 minutter\, uden pause.
URL:https://sonderborg.dk/event/anders-agger-indefra/
LOCATION:Koncertsalen Alsion\, Alsion 2\, Sønderborg\, 6400\, Danmark
CATEGORIES:Borgermøder, debatter, foredrag m.m.
ATTACH;FMTTYPE=image/png:https://sonderborg.dk/wp-content/uploads/2025/10/26_apr21.png
END:VEVENT
BEGIN:VEVENT
DTSTART;TZID=Europe/Copenhagen:20260423T163000
DTEND;TZID=Europe/Copenhagen:20260423T180000
DTSTAMP:20260423T130253
CREATED:20251127T095121Z
LAST-MODIFIED:20260423T075016Z
UID:10013981-1776961800-1776967200@sonderborg.dk
SUMMARY:Rygestop- og nikotinstopkursus
DESCRIPTION:Sundhedscentret tilbyder hjælp til rygestop og nikotinstop til alle\, der bor eller arbejder i Sønderborg Kommune. \nI vores stopkurser er der ingen skræmmekampagner. I et stopkursus får du hjælp til at planlægge stoppet\, så du er rustet til at håndtere dine reaktioner den dag\, du kvitter tobakken\, e-cigaretten eller snusen. Vi arbejder med at fastholde motivationen og komme godt og sikkert igennem stopprocessen. \nTilbuddet er til dig\, som ryger\, bruger e-cigaret\, vapes\, puff bars\, heets\, snus eller andre nikotinprodukter. \nDu kan finde flere informationer om kommunens stoptilbud på kommunens hjemmeside. https://sonderborgkommune.dk/borger/rygestop-nu-ogsaa-med-online-version \nKontakt stoprådgiverne for at høre mere eller tilmelde dig. \nE-mail: rygestop@sonderborg.dk (husk at opgive navn og telefonnummer\, så bliver du ringet op af en stoprådgiver) \nHilsen stoprådgiverne
URL:https://sonderborg.dk/event/rygestop-og-nikotinstopkursus-11/
LOCATION:Sundhedscentret\, Grundtvigs Alle 150\, Sønderborg\, 6400
CATEGORIES:Borgermøder, debatter, foredrag m.m.
END:VEVENT
BEGIN:VEVENT
DTSTART;TZID=Europe/Copenhagen:20260430T173000
DTEND;TZID=Europe/Copenhagen:20260430T193000
DTSTAMP:20260423T130253
CREATED:20260313T064338Z
LAST-MODIFIED:20260422T120727Z
UID:10014767-1777570200-1777577400@sonderborg.dk
SUMMARY:Paradigmeskift i Danmarkshistorien: Enevælden
DESCRIPTION:Paradigmeskift i Danmarkshistorien: Enevælden\n\n\n\nHofliv\, ceremonier og en ny samfundsorden. Enevældens forsøg på at skabe en ny social orden.\n\n\n\n\n\n\nTid og lokation\n\n\nTorsdag den 30. apr. 2026\, 17.30 – 19.15 \nSDU Sønderborg\, Alsion\, 6400 Sønderborg\, lokale U 205 \n\n\n\n\n\n\nOm arrangementet\n\n\n\nEnevældens indførelse i 1660 er et af Danmarkshistoriens afgørende vendepunkter. Det nye regime søgte at skabe en helt ny samfundsorden. Det gamle standssamfund\, hvor man var født til at være adelig\, borger eller bonde\, skulle erstattes af et rangssamfund\, hvor kongegunst og statstjeneste var afgørende for ens position. \nI foredraget fortæller seniorforsker Thomas Lyngby om den enevældige styreform\, om rangssamfundet og om hoffets nye ceremonier og ritualer\, der skulle understøtte den nye styreform. \nArrangeret af Sønderborg Folkeuniversitet.\n \nAlle er velkomne.
URL:https://sonderborg.dk/event/paradigmeskift-i-danmarkshistorien-enevaelden/
LOCATION:Alsion 2\, 6400 Sønderborg\, Alsion 2\, Sønderborg\, 6400
CATEGORIES:Borgermøder, debatter, foredrag m.m.
ATTACH;FMTTYPE=image/jpeg:https://sonderborg.dk/wp-content/uploads/2026/03/IMG_5946.jpeg
END:VEVENT
BEGIN:VEVENT
DTSTART;TZID=Europe/Copenhagen:20260506T180000
DTEND;TZID=Europe/Copenhagen:20260506T193000
DTSTAMP:20260423T130253
CREATED:20260312T101551Z
LAST-MODIFIED:20260312T101907Z
UID:10014765-1778090400-1778095800@sonderborg.dk
SUMMARY:Dialogmøde med erhvervsdrivende omkring Gråsten Torv
DESCRIPTION:Gråsten Torv er en livsnerve i Gråsten\, og i fremtiden skal torvet spille en endnu større rolle for både os\, der har vores daglige gang i byen\, for dig\, der driver virksomhed på torvet\, og for vores mange besøgende. Målet er at skabe mere liv\, længere opholdstid og bedre rammer for handel og aktiviteter på torvet. \nFor at gøre dette skal der igangsættes en forsøgsordning\, hvor torvet fredeliggøres i et eller andet omfang. \nForud for en prøveperiode\, hvor løsningen afprøves i praksis\, inviteres alle butiksdrivende på og omkring Gråsten Torv til at drøfte muligheder\, hensyn og konkrete løsninger. \nInputs vil indgå direkte i udformningen af den konkrete løsning og i planlægningen af prøveperioden. \nAf hensyn til mødeplanlægning\, er tilmelding påkrævet.
URL:https://sonderborg.dk/event/dialogmoede-med-erhvervsdrivende-omkring-graasten-torv/
LOCATION:Ahlmannsparken\, BHJ-salen\, Ahlefeldvej 4\, Gråsten\, 6300
CATEGORIES:Borgermøder, debatter, foredrag m.m.
ATTACH;FMTTYPE=image/jpeg:https://sonderborg.dk/wp-content/uploads/2026/03/Graasten-bymidte-projektomraade-1-scaled.jpg
END:VEVENT
BEGIN:VEVENT
DTSTART;TZID=Europe/Copenhagen:20260508T190000
DTEND;TZID=Europe/Copenhagen:20260508T190000
DTSTAMP:20260423T130253
CREATED:20250715T134941Z
LAST-MODIFIED:20260422T120727Z
UID:10012652-1778266800-1778266800@sonderborg.dk
SUMMARY:Arnesen & Lerby: De gode historier
DESCRIPTION:De har begejstret med meget mere end deres fodbold. De var toppen på det landshold\, der blev ét af Europas bedste\, og de tændte dynamitten på 80ernes succeshold.\nSøren Lerby og Frank Arnesen har stadig så meget at fortælle fra dengang de som teenagedrenge tog ud i den store fodboldverden og blev stjerner i de største klubber. \nDe har anekdoter og fortællinger fra fodboldens kulisse – historier der aldrig er fortalt før. Og de gør det med deres smittende humør. \nDe giver også et indblik i særlige dele af fodboldens hjørner. Om den sportslige og økonomiske magt. Om fodbold dengang og nu. Historier der vil overraske – og brede smil ud. \nOm hvorfor Frank Arnesen blev sammenlignet med Mick Jagger og om Søren Lerby der spillede uden benskinner\, så hans mor kunne genkende ham på TV. \nDe kan simpelthen ikke lade være – de er ganske enkelt enestående. Man bliver bare revet med. Et par charmerende drengerøve\, der har så meget på hjertet. \nMød dem live i Koncertsalen Alsion\, når de i showet interviewes af Flemming Toft
URL:https://sonderborg.dk/event/arnesen-lerby-de-gode-historier/
LOCATION:Koncertsalen Alsion\, Alsion 2\, Sønderborg\, 6400\, Danmark
CATEGORIES:Borgermøder, debatter, foredrag m.m.
ATTACH;FMTTYPE=image/jpeg:https://sonderborg.dk/wp-content/uploads/2025/07/S26_maj8.jpg
END:VEVENT
BEGIN:VEVENT
DTSTART;TZID=Europe/Copenhagen:20260513T173000
DTEND;TZID=Europe/Copenhagen:20260513T193000
DTSTAMP:20260423T130253
CREATED:20260313T064337Z
LAST-MODIFIED:20260422T120727Z
UID:10014769-1778693400-1778700600@sonderborg.dk
SUMMARY:Paradigmeskift i Danmarkshistorien: Kvinders medindflydelse
DESCRIPTION:Paradigmeskift i Danmarkshistorien: Kvindernes medindflydelse\n\n\n\nKvindekamp i to perioder af Danmarkshistorien.\n\n\n\n\n\n\nTid og lokation\n\n\nOnsdag den 13. maj 2026\, 17.30 – 19.15 \nSDU Sønderborg\, Alsion\, 6400 Sønderborg\, lokale U 205. \n\n\n\n\n\n\nOm arrangementet\n\n\n\nKvinderne har altid arbejdet og deltaget i samfundet. Alligevel kan man tale om\, at der i perioder sker nogle paradigmeskift.\n \nBente Rosenbeck vil i foredraget komme ind på\, hvordan spørgsmålet om kvinder og ligestilling er blevet politiseret i to perioder: I tiden efter 1871\, hvor den første danske kvindebevægelse\, Dansk Kvindesamfund\, opstod; og efter  1971\, hvor Rødstrømperne satte en ny dagsorden. \nBente Rosenbeck\, dr.phil.\, professor emerita\, har igennem mange år forsket i kvinde- og kønshistorie. Hendes bog “Kvindekøn. Den moderne kvindeligheds historie 1880-1980” fra 1987 er genudgivet som e-bog og lydbog.\nArrangeret af Sønderborg Folkeuniversitet.  \nAlle er velkomne.
URL:https://sonderborg.dk/event/paradigmeskift-i-danmarkshistorien-kvinders-medindflydelse/
LOCATION:Alsion 2\, 6400 Sønderborg\, Alsion 2\, Sønderborg\, 6400
CATEGORIES:Borgermøder, debatter, foredrag m.m.
ATTACH;FMTTYPE=image/jpeg:https://sonderborg.dk/wp-content/uploads/2026/03/IMG_5944.jpeg
END:VEVENT
BEGIN:VEVENT
DTSTART;TZID=Europe/Copenhagen:20260521T173000
DTEND;TZID=Europe/Copenhagen:20260521T193000
DTSTAMP:20260423T130253
CREATED:20260313T064337Z
LAST-MODIFIED:20260422T120727Z
UID:10014770-1779384600-1779391800@sonderborg.dk
SUMMARY:Håb i psykologisk betydning
DESCRIPTION:Håb i psykologisk belysning\n\n\n\nDet 3. foredrag i rækken om håb. De tidligere foredrag har omhandlet det kristne håb og håb i litteraturen.\n\n\n\n\n\n\nTid og lokation\n\n\nTorsdag den 21. maj 2026\, 17.30 – 19.15 \n\nSDU Sønderborg\, Alsion\, 6400 Sønderborg\, lokale U 205. \n\n\n\n\n\n\n\nOm arrangementet\n\n\n\nHåbet er både regressivt og finalt (for at bruge to psykoanalytiske udtryk). Regressivt betragtet er håbet forbundet med menneskets allertidligste liv\, dér\, hvor vi formes som individer\, dér\, hvor vores ”arbejdsmodeller” (John Bowlby) for os selv og livet i verden bliver til. Det former vores håb og dets drømme\, men i sig selv er håbet fremtidsrettet; det er jungiansk udtrykt finalt\, dvs. det har med menneskets selv-virkeliggørelse at gøre\, og frigør os fra det\, der binder os\, så vi kan blive os selv. Men med til et realistisk håb hører også\, at man erkender virkeligheden\, som den nu engang er. \nI en bevægelse mellem at skue tilbage til individets tidligste liv og skue frem til den potentielle selvudfoldelse vil foredragsholderen uddybe disse forståelser og præsentere forskellige psykoanalytiske\, jungianske og eksistenspsykologiske teoretikeres syn på håb. \nForedragsholderen\, ph.d Henriette Heide-Jørgensen\, er uddannet cand.theol. fra Aarhus Universitet og har virket som præst i Folkekirken siden 1991. I 2006 afsluttede hun uddannelsen til jungiansk analytiker ved Junginstituttet i København.\n\nArrangeret af Sønderborg Folkeuniversitet.\n\nAlle er velkomne.
URL:https://sonderborg.dk/event/haab-i-psykologisk-betydning/
LOCATION:Alsion 2\, 6400 Sønderborg\, Alsion 2\, Sønderborg\, 6400
CATEGORIES:Borgermøder, debatter, foredrag m.m.
ATTACH;FMTTYPE=image/jpeg:https://sonderborg.dk/wp-content/uploads/2026/03/IMG_5945.jpeg
END:VEVENT
BEGIN:VEVENT
DTSTART;TZID=Europe/Copenhagen:20260526T183000
DTEND;TZID=Europe/Copenhagen:20260526T203000
DTSTAMP:20260423T130253
CREATED:20260415T052600Z
LAST-MODIFIED:20260423T075015Z
UID:10014983-1779820200-1779827400@sonderborg.dk
SUMMARY:Informationsaften om overgangsalder i Sundhedscentret
DESCRIPTION:Oplever du hedeture\, søvnbesvær\, og at det kan være svært at tale om overgangsalder med din omgangskreds? Er du interesseret i at høre mere om\, hvad du selv kan gøre\, og hvad Sundhedscentret kan hjælpe dig videre med? Så tilmeld dig denne informationsaften. Arrangeres af Sundhedscentret \nForegår på Sundhedscentret i Kantinen. \nDet er gratis. \nDer er plads til 50 deltagere \nVed afbud bedes du kontakte sundhedscentret\, så vi kan give pladsen til en anden. \nSundhedscentret kan kontaktes på mail sundhedscentret@sonderborg.dk eller telefon 88 72 41 82 \n 
URL:https://sonderborg.dk/event/kom-til-informationsaften-om-overgangsalder-i-sundhedscentret/
LOCATION:Sundhedscentret Sønderborg\, Grundtvigs Alle 150\, Sønderborg\, 6400
CATEGORIES:Borgermøder, debatter, foredrag m.m.
ATTACH;FMTTYPE=image/jpeg:https://sonderborg.dk/wp-content/uploads/2026/04/Overgangsalder-tilbud-e1776236723655.jpg
END:VEVENT
BEGIN:VEVENT
DTSTART;TZID=Europe/Copenhagen:20260829T130000
DTEND;TZID=Europe/Copenhagen:20260829T160000
DTSTAMP:20260423T130253
CREATED:20260417T073406Z
LAST-MODIFIED:20260422T120726Z
UID:10015003-1788008400-1788019200@sonderborg.dk
SUMMARY:Mad med Mening
DESCRIPTION:Kom til Mad med Mening – Hele familiens madfest i Sønderborg! \n\n\nTag familien med til sensommerens hyggeligste og lækreste arrangement og bliv stop madspildshelte – til glæde for både klimaet og pengepungen \n\n\nDer vil være masser af sjove aktiviteter og lækre smagsoplevelser for både store og små. Helt GRATIS.\n\n\nDu kan blandt andet opleve at:\n Få smagsprøver\, opskrifter og madinspiration til hverdagen\n Besøge flere end 20 inspirationsstande og spændende workshops\n Lyt med på scenen\, hvor vi deler viden\, idéer og gode historier\n Masser af sjove lege og aktiviteter for børnene\n Lav most af dine egne æbler\n Køb måltidsposer og lokal grøn mad
URL:https://sonderborg.dk/event/mad-med-mening/
LOCATION:Center for Verdensmål\, Løkkegårdsvej 3\, 6400 Sønderborg\, Løkkegårdsvej 3\, Sønderborg\, 6400
CATEGORIES:Borgermøder, debatter, foredrag m.m.
ATTACH;FMTTYPE=image/jpeg:https://sonderborg.dk/wp-content/uploads/2026/04/2572_Mad-med-mening-Plakat-V5a.jpg
END:VEVENT
BEGIN:VEVENT
DTSTART;TZID=Europe/Copenhagen:20260905T200000
DTEND;TZID=Europe/Copenhagen:20260905T220000
DTSTAMP:20260423T130253
CREATED:20260329T180233Z
LAST-MODIFIED:20260422T120726Z
UID:10014813-1788638400-1788645600@sonderborg.dk
SUMMARY:Lasse Kvist – Comedy-Hypnoseshow // Sønderborghus
DESCRIPTION:Kontrolleret Kaos \nEt comedy hypnoseshow af Lasse Kvist. Er du helt sikker på\, at du selv har kontrollen? I Kontrolleret Kaos jonglerer Lasse Kvist med hypnose\, tankelæsning og stand-up i et show fyldt medgrin\, overraskelser og publikumsinddragelse. Ingen bliver hængt ud – men du risikerer at blive taget kærligt ved næsen. Et show for dig\, der godt kan lide at grine og som tør slippe kontrollen i den tid showet varer. Det er helt sikkert. Det bliver sjovt. Det bliver lidt vildt – og alt publikumsdeltagelse er selvfølgelig 100% frivilligt.
URL:https://sonderborg.dk/event/lasse-kvist-comedy-hypnoseshow-soenderborghus/
LOCATION:Sønderborghus\, Martin Nyrops Plads 2\, Sønderborg\, 6400
CATEGORIES:Borgermøder, debatter, foredrag m.m.,Comedy
ATTACH;FMTTYPE=image/jpeg:https://sonderborg.dk/wp-content/uploads/2026/03/lk-kk-1920x1080-utekst-1024x576-1.jpg
END:VEVENT
BEGIN:VEVENT
DTSTART;TZID=Europe/Copenhagen:20260916T190000
DTEND;TZID=Europe/Copenhagen:20260916T210000
DTSTAMP:20260423T130253
CREATED:20251208T073415Z
LAST-MODIFIED:20260422T120726Z
UID:10014002-1789585200-1789592400@sonderborg.dk
SUMMARY:Haveselskabet Sønderborg får besøg af tomatgruppen fra Åbenrå
DESCRIPTION:Foredraget giver dig viden og nyttige tips til at dyrke dine egne tomater. \nTomatgruppen fra Åbenrå kommer hele vejen rundt om valg af sorter\, såning\, lys\, varme\, udplantning\, pasning\, gødning\, vanding og høst. \nPris for medlemmer 30 kr. \nPris for ikke medlemmer 60 kr. \nBetaling sker på stedet. \nKaffe/te og kage er med i prisen.
URL:https://sonderborg.dk/event/haveselskabet-soenderborg-faar-besoeg-af-tomatgruppen-fra-aabenraa/
LOCATION:Frivillighedens Hus\, 6400 Sønderborg\, Perlegade 50\, Sønderborg\, 6400
CATEGORIES:Borgermøder, debatter, foredrag m.m.
ATTACH;FMTTYPE=image/jpeg:https://sonderborg.dk/wp-content/uploads/2025/12/Tomatgruppen-Aabenraa-scaled.jpg
END:VEVENT
BEGIN:VEVENT
DTSTART;TZID=Europe/Copenhagen:20260923T190000
DTEND;TZID=Europe/Copenhagen:20260923T190000
DTSTAMP:20260423T130253
CREATED:20251016T114734Z
LAST-MODIFIED:20260422T120726Z
UID:10013798-1790190000-1790190000@sonderborg.dk
SUMMARY:Pia Callesen
DESCRIPTION:MIDT I EN BEKYMRINGSTID | Til de diagnoseløse: En aften til dig\, der er ”helt normal”\nBekymrer du dig\, måske lidt for meget\, om alt fra elregninger til verdensfreden? \nDu er ikke alene. Faktisk grubler og bekymrer de fleste af os – også selvom vi ikke har nogen diagnose. En måling fra Epinion viser\, at 80 % af danskerne er bekymrede for verdensfreden\, og næsten lige så mange bekymrer sig mere nu\, end de gjorde for et år siden. \nMen hvad nu\, hvis det ikke er tankerne\, der skal have magten – men dig? \nI sit nye\, underholdende foredrag deler psykolog og bestsellerforfatter Pia Callesen en enkel og livsnær måde at håndtere tanker og bekymringer på. Med humor\, varme og genkendelige eksempler viser hun\, hvordan du kan slippe fri af tankemylderet\, få mere ro i hovedet og mere energi til alt det\, der faktisk betyder noget. \nKort sagt: Bliv klogere og få et godt grin. \nOver 40.000 mennesker har allerede oplevet Pia Callesens første foredrag Lev Mere Tænk Mindre. \nGå ikke glip af hendes nye underholdende foredrag MIDT I EN BEKYMRINGSTID\, når hun gæster Sønderborg Teater den 23. september 2026.
URL:https://sonderborg.dk/event/pia-callesen/
LOCATION:Sønderborg Teater\, Strandvej 1\, Sønderborg\, 6400
CATEGORIES:Borgermøder, debatter, foredrag m.m.,Koncert, musik og fællessang
ATTACH;FMTTYPE=image/jpeg:https://sonderborg.dk/wp-content/uploads/2025/10/Pia-Callesen_72dpi_1920x986px.jpg
END:VEVENT
BEGIN:VEVENT
DTSTART;TZID=Europe/Copenhagen:20260929T190000
DTEND;TZID=Europe/Copenhagen:20260929T220000
DTSTAMP:20260423T130253
CREATED:20251208T073415Z
LAST-MODIFIED:20260422T120725Z
UID:10014001-1790708400-1790719200@sonderborg.dk
SUMMARY:Foredrag om pindsvin med Haveselskabet Sønderborg
DESCRIPTION:Hanne Mette Kjær fortæller om pindsvinenes natur og adfærd og Willy Nielsen viser hvordan\, vi kan bygge pindsvine bo til haven. \nPris for medlemmer 50 kr. \nPris for ikke medlemmer 100 kr. \nKaffe/te og kage er med i prisen. \nBetaling sker på stedet.
URL:https://sonderborg.dk/event/foredrag-om-pindsvin-med-haveselskabet-soenderborg/
LOCATION:Frivillighedens Hus\, 6400 Sønderborg\, Perlegade 50\, Sønderborg\, 6400
CATEGORIES:Borgermøder, debatter, foredrag m.m.
ATTACH;FMTTYPE=image/jpeg:https://sonderborg.dk/wp-content/uploads/2025/12/Pindsvin-1.jpg
END:VEVENT
BEGIN:VEVENT
DTSTART;TZID=Europe/Copenhagen:20261028T190000
DTEND;TZID=Europe/Copenhagen:20261028T220000
DTSTAMP:20260423T130253
CREATED:20251208T073414Z
LAST-MODIFIED:20260422T120725Z
UID:10014003-1793214000-1793224800@sonderborg.dk
SUMMARY:Søren Ryge besøger Haveselskabet i Sønderborg
DESCRIPTION:Aftenen kommer til at handle om mennesker og det bedste af det bedste fra haven. \nPris for medlemmer 80 kr. \nPris for ikke medlemmer 130 kr. \nKaffe/te og kage er med i prisen \nBetaling sker på stedet.
URL:https://sonderborg.dk/event/soeren-ryge-besoeger-haveselskabet-i-soenderborg/
LOCATION:Frivillighedens Hus\, 6400 Sønderborg\, Perlegade 50\, Sønderborg\, 6400
CATEGORIES:Borgermøder, debatter, foredrag m.m.
ATTACH;FMTTYPE=image/jpeg:https://sonderborg.dk/wp-content/uploads/2025/12/Soeren-Ryge4-scaled.jpg
END:VEVENT
BEGIN:VEVENT
DTSTART;TZID=Europe/Copenhagen:20261125T150000
DTEND;TZID=Europe/Copenhagen:20261125T193000
DTSTAMP:20260423T130253
CREATED:20260112T072800Z
LAST-MODIFIED:20260423T062054Z
UID:10014307-1795618800-1795635000@sonderborg.dk
SUMMARY:Orange Dage 2026
DESCRIPTION:Kvindeparaplyen markerer traditionen tro Orange Dage 27. november 2026 med optog og arrangement i Frivillighedens Hus. \nOrange Dage er FN’s kampagne  for “Stop vold mod kvinder”\, som markeres hvert år i perioden 25. november til 16. december. I Sønderborg har vi udstilling i Frivillighedens Hus og Multikulturhuset\, og rundt om i byen er skulpturer dekoreret med orange bånd og QR-koder.
URL:https://sonderborg.dk/event/orange-dage-2026/
CATEGORIES:Borgermøder, debatter, foredrag m.m.,Shopping, mad og byliv
ATTACH;FMTTYPE=image/jpeg:https://sonderborg.dk/wp-content/uploads/2026/01/Orange-DAge-25-1.jpeg
END:VEVENT
END:VCALENDAR