BEGIN:VCALENDAR
VERSION:2.0
PRODID:-//sonderborg.dk - ECPv6.15.17.1//NONSGML v1.0//EN
CALSCALE:GREGORIAN
METHOD:PUBLISH
X-ORIGINAL-URL:https://sonderborg.dk
X-WR-CALDESC:Begivenheder for sonderborg.dk
REFRESH-INTERVAL;VALUE=DURATION:PT1H
X-Robots-Tag:noindex
X-PUBLISHED-TTL:PT1H
BEGIN:VTIMEZONE
TZID:Europe/Copenhagen
BEGIN:DAYLIGHT
TZOFFSETFROM:+0100
TZOFFSETTO:+0200
TZNAME:CEST
DTSTART:20250330T010000
END:DAYLIGHT
BEGIN:STANDARD
TZOFFSETFROM:+0200
TZOFFSETTO:+0100
TZNAME:CET
DTSTART:20251026T010000
END:STANDARD
BEGIN:DAYLIGHT
TZOFFSETFROM:+0100
TZOFFSETTO:+0200
TZNAME:CEST
DTSTART:20260329T010000
END:DAYLIGHT
BEGIN:STANDARD
TZOFFSETFROM:+0200
TZOFFSETTO:+0100
TZNAME:CET
DTSTART:20261025T010000
END:STANDARD
BEGIN:DAYLIGHT
TZOFFSETFROM:+0100
TZOFFSETTO:+0200
TZNAME:CEST
DTSTART:20270328T010000
END:DAYLIGHT
BEGIN:STANDARD
TZOFFSETFROM:+0200
TZOFFSETTO:+0100
TZNAME:CET
DTSTART:20271031T010000
END:STANDARD
END:VTIMEZONE
BEGIN:VEVENT
DTSTART;TZID=Europe/Copenhagen:20261210T170000
DTEND;TZID=Europe/Copenhagen:20261210T190000
DTSTAMP:20260420T212715
CREATED:20250402T085304Z
LAST-MODIFIED:20260209T121428Z
UID:10010666-1796922000-1796929200@sonderborg.dk
SUMMARY:Free webinar: The Danish Healthcare System
DESCRIPTION:The Danish healthcare system is universal. Therefore\, all residents in Denmark (citizens holding a CPR number) have access to the public healthcare system\, and most services are free. \nThe primary focus of this event will be the Danish healthcare system. You will receive an overview of its structure\, basic principles\, and how to navigate it. \nIt’s important to note that this event is not a medical seminar. Instead\, it’s designed to provide you with practical and general insights into the Danish healthcare system\, specifically tailored for international residents in Denmark. \nHere you can sign up for the event. The event is a webinar\, and you will receive a link for the event a few hours before it begins. \nSign-up is possible until 14.00 on the day of the event. Please note that the event will not be recorded. \nWe eagerly look forward to your active participation in this event!
URL:https://sonderborg.dk/event/free-webinar-the-danish-healthcare-system/
CATEGORIES:Newcomer,Zuzügler
ATTACH;FMTTYPE=image/jpeg:https://sonderborg.dk/wp-content/uploads/2025/04/Laege-med-barn-scaled.jpg
END:VEVENT
END:VCALENDAR