BEGIN:VCALENDAR
VERSION:2.0
PRODID:-//sonderborg.dk - ECPv6.15.17.1//NONSGML v1.0//EN
CALSCALE:GREGORIAN
METHOD:PUBLISH
X-WR-CALNAME:sonderborg.dk
X-ORIGINAL-URL:https://sonderborg.dk
X-WR-CALDESC:Begivenheder for sonderborg.dk
REFRESH-INTERVAL;VALUE=DURATION:PT1H
X-Robots-Tag:noindex
X-PUBLISHED-TTL:PT1H
BEGIN:VTIMEZONE
TZID:Europe/Copenhagen
BEGIN:DAYLIGHT
TZOFFSETFROM:+0100
TZOFFSETTO:+0200
TZNAME:CEST
DTSTART:20250330T010000
END:DAYLIGHT
BEGIN:STANDARD
TZOFFSETFROM:+0200
TZOFFSETTO:+0100
TZNAME:CET
DTSTART:20251026T010000
END:STANDARD
BEGIN:DAYLIGHT
TZOFFSETFROM:+0100
TZOFFSETTO:+0200
TZNAME:CEST
DTSTART:20260329T010000
END:DAYLIGHT
BEGIN:STANDARD
TZOFFSETFROM:+0200
TZOFFSETTO:+0100
TZNAME:CET
DTSTART:20261025T010000
END:STANDARD
BEGIN:DAYLIGHT
TZOFFSETFROM:+0100
TZOFFSETTO:+0200
TZNAME:CEST
DTSTART:20270328T010000
END:DAYLIGHT
BEGIN:STANDARD
TZOFFSETFROM:+0200
TZOFFSETTO:+0100
TZNAME:CET
DTSTART:20271031T010000
END:STANDARD
END:VTIMEZONE
BEGIN:VEVENT
DTSTART;TZID=Europe/Copenhagen:20260423T123000
DTEND;TZID=Europe/Copenhagen:20260423T143000
DTSTAMP:20260423T111954
CREATED:20260413T181302Z
LAST-MODIFIED:20260413T181302Z
UID:10014943-1776947400-1776954600@sonderborg.dk
SUMMARY:Danmarks Nationale Klimahandledag
DESCRIPTION:Sønderborg Kommune er med til at markere Danmarks Nationale Klimahandledag 2026. Over hele kommunen arrangeres der fællesspisninger\, grøn mad i kantiner og andre gode ting. Du se alt hvad der foregår på www.klimahandledag.dk. \nCenter for Verdensmål markerer dagen med uddeling af lækkerier og frø du kan så i egen have. Kom og smag noget lækkert og få spændende inspiration til hvordan du kan gøre noget godt for både din pengepung og jorden! \nDu kan finde os i krydset Perlegade x Jernbanegade fra kl. 12.30-14.30 og på Biblioteket Sønderborg\, Nørre Havnegade\, kl. 15.00-17.00. \nVi glæder os til at se dig!
URL:https://sonderborg.dk/event/danmarks-nationale-klimahandledag/2026-04-23/1/
CATEGORIES:Biblioteket,Familie,Natur
ATTACH;FMTTYPE=image/jpeg:https://sonderborg.dk/wp-content/uploads/2026/04/cover_fb_event-scaled.jpg
END:VEVENT
BEGIN:VEVENT
DTSTART;TZID=Europe/Copenhagen:20260423T142000
DTEND;TZID=Europe/Copenhagen:20260423T153000
DTSTAMP:20260423T111954
CREATED:20240709T122936Z
LAST-MODIFIED:20260416T085045Z
UID:10013923-1776954000-1776958200@sonderborg.dk
SUMMARY:Onlineberatung auf Deutsch für mögliche Jobzuzügler
DESCRIPTION:Spielst du mit dem Gedanken\, in der Gemeinde Sønderborg zu arbeiten und zu leben? Dann nehme an unserer Onlineberatung mit dem Zuzüglerservice Sønderborg teil. In der Gemeinde Sønderborg suchen wir insbesondere nach Ingenieure\, Gesundheitspersonal (Altenpfleger\, Krankenpfleger\, Ärzte\, Hebammen)\, Kellner und Köche sowie Handwerker aller Art. \nWährend der Sitzung erhälst du Informationen zu folgenden Themen: \n\nJobsuche und Bewerbungswebinare\nDänischkurse\nWohnmöglichkeiten\nKindergärten und Schulen\nKultur- und Freizeitmöglichkeiten\n\nBei detaillierteren Fragen zu u.a. Steuern\, Aufenthaltsgenehmigung\, Krankenkasse\, Kauf einer Immobilie etc. wirst du an jene Behörden und Instanzen weitergeleitet\, die über das nötige Spezialwissen verfügen. Darüber hinaus hast du die Möglichkeit\, Fragen zu stellen sowie andere\, mögliche Zuzügler aus deutschsprachigen Ländern kennenzulernen. \nUnter www.sonderborg.dk/zuzugler findest du viele wertvolle Informationen\, die deinen Umzug in die Gemeinde Sønderborg erleichtern. Wir haben auch eine “Schritt für Schritt-Anleitung” zur Auswanderung nach Dänemark/Sønderborg für dich zusammengestellt. \nUm an der Onlineberatung teilnehmen zu können\, muss man das Interesse an einer Arbeit in der Gemeinde Sønderborg haben und sich online anmelden. Du erhälst dann ein Bestätigungsschreiben mit einem Anmeldelink. \nDie Onlineberatung findet auf Deutsch und überwiegend an Donnerstagen von 14.20 bis 15.30 Uhr statt. \nTermine in 2026 (mit Vorbehalt): \n19. März\, 23. April\, 21. Mai\, 18. Juni\, 16. Juli\, 20. August\, 10. September\, 8. Oktober\, 12. November und 10. Dezember 2026.
URL:https://sonderborg.dk/event/onlineberatung-deutsch/2026-04-23/
CATEGORIES:Zuzügler
ATTACH;FMTTYPE=image/jpeg:https://sonderborg.dk/wp-content/uploads/2021/09/Onlinevejledning-scaled.jpg
END:VEVENT
BEGIN:VEVENT
DTSTART;TZID=Europe/Copenhagen:20260423T163000
DTEND;TZID=Europe/Copenhagen:20260423T180000
DTSTAMP:20260423T111954
CREATED:20251127T095121Z
LAST-MODIFIED:20260423T075016Z
UID:10013981-1776961800-1776967200@sonderborg.dk
SUMMARY:Rygestop- og nikotinstopkursus
DESCRIPTION:Sundhedscentret tilbyder hjælp til rygestop og nikotinstop til alle\, der bor eller arbejder i Sønderborg Kommune. \nI vores stopkurser er der ingen skræmmekampagner. I et stopkursus får du hjælp til at planlægge stoppet\, så du er rustet til at håndtere dine reaktioner den dag\, du kvitter tobakken\, e-cigaretten eller snusen. Vi arbejder med at fastholde motivationen og komme godt og sikkert igennem stopprocessen. \nTilbuddet er til dig\, som ryger\, bruger e-cigaret\, vapes\, puff bars\, heets\, snus eller andre nikotinprodukter. \nDu kan finde flere informationer om kommunens stoptilbud på kommunens hjemmeside. https://sonderborgkommune.dk/borger/rygestop-nu-ogsaa-med-online-version \nKontakt stoprådgiverne for at høre mere eller tilmelde dig. \nE-mail: rygestop@sonderborg.dk (husk at opgive navn og telefonnummer\, så bliver du ringet op af en stoprådgiver) \nHilsen stoprådgiverne
URL:https://sonderborg.dk/event/rygestop-og-nikotinstopkursus-11/
LOCATION:Sundhedscentret\, Grundtvigs Alle 150\, Sønderborg\, 6400
CATEGORIES:Borgermøder, debatter, foredrag m.m.
END:VEVENT
BEGIN:VEVENT
DTSTART;TZID=Europe/Copenhagen:20260423T193000
DTEND;TZID=Europe/Copenhagen:20260423T213000
DTSTAMP:20260423T111954
CREATED:20251124T072431Z
LAST-MODIFIED:20260413T064038Z
UID:10013973-1776972600-1776979800@sonderborg.dk
SUMMARY:Danfoss Orkestret Foråskoncert
DESCRIPTION:Danfoss orkestret har igen i 2026 valgt at komme forbi Kultur i Gråsten og BHJ-salen for at spille deres forårskoncert. Det bliver festligt og humørfyldt\, og vi glæder os til igen at høre dem. \nArrangementet støttes af Bitten og Mads Clausens Fond
URL:https://sonderborg.dk/event/danfoss-orkestret-foraaskoncert/
LOCATION:Ahlmannsparken\, BHJ-salen\, Ahlefeldvej 4\, Gråsten\, 6300
CATEGORIES:Koncert, musik og fællessang
ATTACH;FMTTYPE=image/jpeg:https://sonderborg.dk/wp-content/uploads/2025/11/Danfoss-orkestret.jpg
END:VEVENT
BEGIN:VEVENT
DTSTART;TZID=Europe/Copenhagen:20260423T200000
DTEND;TZID=Europe/Copenhagen:20260423T220000
DTSTAMP:20260423T111954
CREATED:20260220T073154Z
LAST-MODIFIED:20260220T073154Z
UID:10014371-1776974400-1776981600@sonderborg.dk
SUMMARY:Lea Eyðbjørg & Scout Powell
DESCRIPTION:Majestætisk melankoli\, poetisk nærvær og slagkraftige elektroniske popsange fra dansk-færøsk stortalent \nDen dansk-færøske sanger og sangskriver Lea Eyðbjørg har på rekordtid markeret sig som en af de mest dragende nye stemmer på den nordiske musikscene. Med en sjælden kombination af sårbarhed og styrke har hun skabt sin egen ærlige og hudløse lyd\, hvor nordisk\, håndspillet melankoli møder slagkraftige\, elektroniske popsange. \nLea Eyðbjørg debuterede i oktober 2023 med singlen “blå nætter”\, som straks fandt vej til både færøske og danske radiokanaler. Siden har hendes musik vundet indpas hos et voksende publikum ? og på under to år har hun haft P3’s uundgåelige og været valgt som åbner for Roskilde Festivals First Days-program i 2025. \nLea udgav sin debut-ep “kærlighedsdigte til de uhjælpelige” i foråret 2024 og har siden da brugt tiden på at skrive og indspille en masse ny musik som ser dagens lys i løbet af 2026. \nEn stor del af disse sange præsenteres live\, når Lea til foråret turnerer ud i landet og besøger en lang række byer for første gang. \nSUPPORT: Scout Powell \nLænge før turen gik 16.500 kilometer fra Australien til Danmark\, indtog Scout Powell sin allerførste scene hjemme i forstaden – på ladet af naboens pickup-truck\, hvor hun inviterede hele villavejen til koncert. Opvokset med en bedstemor der var countrysanger\, og senere selv klassisk skolet på både bratsch\, basklarinet og i kor\, har musikken altid været en uundgåelig tyngdekraft for hende. Men mens hun befandt sig i den klassiske musiks disciplin\, søgte hun efter en lyd\, der føltes mere som virkeligheden: ærlig\, uperfekt og menneskelig. Den søgen ledte hende fra den bagende sol tæt på The Sunshine Coast til en dansk musikhøjskole. Det var her\, i mødet med den danske sangskrivertradition og det fællesskab\, hun havde savnet\, at hun fandt sin stemme og besluttede at blive. \nI dag lever Scout Powells musik i spændingsfeltet mellem de to verdener. Hendes lyd\, som kan omtales som “Blue Hour Pop”\, er et møde mellem den solblegede\, australske folk-varme og den kølige\, atmosfæriske tekstur fra nordisk pop. Der er ingen glimmer – Scout hylder reallyden af rummet\, åndedrættet mellem linjerne og den specifikke smerte fra en åben dagbog. Hendes vokal er unik – luftig og dragende\, med en tyngde\, der skærer igennem støjen som en hvisken i et fyldt lokale. Med et hurtigt voksende internationalt community online og en debut-udgivelse på trapperne\, er Scout Powell ikke længere kun den pige\, der spiller for naboerne. Hun er i gang med at bygge et organisk og menneskeligt pop-univers\, der skalerer intimiteten fra soveværelset op til stadion-størrelse – klar til at blive soundtracket til de øjeblikke\, vi normalt navigerer alene.
URL:https://sonderborg.dk/event/lea-eydbjoerg-scout-powell/
LOCATION:Mejeriet\, Løngang 2\, Sønderborg\, 6400\, Danmark
CATEGORIES:Familie,Koncert, musik og fællessang
ATTACH;FMTTYPE=image/jpeg:https://sonderborg.dk/wp-content/uploads/2026/02/CDA3BEEF-C1F8-4495-9056-23E3F21DC645_1_201_a-1-scaled.jpeg
END:VEVENT
END:VCALENDAR